BEGIN:VCALENDAR
VERSION:2.0
PRODID:-//ChamberMaster//Event Calendar 2.0//EN
METHOD:PUBLISH
X-PUBLISHED-TTL:P3D
REFRESH-INTERVAL:P3D
CALSCALE:GREGORIAN
BEGIN:VEVENT
DTSTART:20181208T190000Z
DTEND:20181209T204500Z
X-MICROSOFT-CDO-ALLDAYEVENT:FALSE
SUMMARY:THE NUTCRACKER
DESCRIPTION:Celebrate the holidays with New Jersey Dance Theatre Ensemble's acclaimed full-length production of The Nutcracker. NJDTE Nutcracker tickets are on sale now! Dates and times are Saturday\, Dec. 8 at 1pm and 5pm\, and Sunday\, Dec. 9 at 2pm. Performances take place at the Memorial Auditorium at Montclair State University and the cost of the tickets are $25-$35. For more information about the performances www.njdte.tix.com or email info@njdte.org. call 908-273-5500 www.njdte.org
X-ALT-DESC;FMTTYPE=text/html:<span style="color:rgb(13\, 13\, 13)\; font-family:arial\,sans-serif\; font-size:12pt">Celebrate the holidays with&nbsp\;</span><span style="color:rgb(0\, 0\, 0)\; font-family:times new roman\,serif\; font-size:12pt"><a href="http://r20.rs6.net/tn.jsp?f=001qyJzYbsM7pmsmcc5b0Md-VjjDs5F0MeyZHvlNDEsb6GWiRWUdb3gq8QeYiapr1b9eA7iuzKsfAB9fuZUzsRCI4EXWCd77kMNp13EWjdbRcjeVsgT2AghTBSFdaJNUurUTiHHuIZ-rAk=&amp\;c=vsGUeRguojg6zNHSPs_p2NIOma75CDVZkXpdooCKpHnxw2tD8J9kiQ==&amp\;ch=kgGVDna3N0mOiT3bpebkpbFo8hlHpPJXlXr6jhQjaIJw0yOV37d8BA==" style="color: blue\;" target="_blank"><span style="color:rgb(32\, 139\, 181)\; font-family:arial\,sans-serif">New Jersey Dance Theatre Ensemble&rsquo\;s</span></a></span><span style="color:rgb(13\, 13\, 13)\; font-family:arial\,sans-serif\; font-size:12pt">&nbsp\;acclaimed full-length production of The Nutcracker. NJDTE&nbsp\;Nutcracker tickets&nbsp\;are on sale now!&nbsp\;Dates and times are&nbsp\;Saturday\, Dec. 8 at 1pm and 5pm\, and Sunday\, Dec. 9 at 2pm. Performances take place at the Memorial Auditorium at Montclair State University and the cost of the tickets are $25-$35. For more information about the performances&nbsp\;</span><span style="color:rgb(0\, 0\, 0)\; font-family:times new roman\,serif\; font-size:12pt"><a href="http://r20.rs6.net/tn.jsp?f=001qyJzYbsM7pmsmcc5b0Md-VjjDs5F0MeyZHvlNDEsb6GWiRWUdb3gqwxMli-TvztvO0CozxT4NboCN3w8mzm3ho_uiAlr8luSOyB_e3IfB6UVLmnJo5Xizq4pwCsbH7498hRUaeIFzq2P5paPWyhXGg==&amp\;c=vsGUeRguojg6zNHSPs_p2NIOma75CDVZkXpdooCKpHnxw2tD8J9kiQ==&amp\;ch=kgGVDna3N0mOiT3bpebkpbFo8hlHpPJXlXr6jhQjaIJw0yOV37d8BA==" style="color: blue\;" target="_blank"><span style="color:rgb(32\, 139\, 181)\; font-family:arial\,sans-serif">www.njdte.tix.com</span></a></span><span style="color:rgb(13\, 13\, 13)\; font-family:arial\,sans-serif\; font-size:12pt">&nbsp\;or email&nbsp\;</span><span style="color:rgb(0\, 0\, 0)\; font-family:times new roman\,serif\; font-size:12pt"><a href="mailto:info@njdte.org" style="color: blue\;" target="_blank"><span style="color:rgb(32\, 139\, 181)\; font-family:arial\,sans-serif">info@njdte.org</span></a></span><span style="color:rgb(13\, 13\, 13)\; font-family:arial\,sans-serif\; font-size:12pt">. call&nbsp\;908-273-5500&nbsp\;</span><span style="color:rgb(0\, 0\, 0)\; font-family:times new roman\,serif\; font-size:12pt">www.njdte.org</span>
LOCATION:Memorial Auditorium at Montclair State University. 1 Normal Avenue\, Montclair NJ 07043
UID:e.870.14814
SEQUENCE:3
DTSTAMP:20260420T142125Z
URL:https://business.suburbanchambers.org/events/details/the-nutcracker-14814
END:VEVENT

END:VCALENDAR
