BEGIN:VCALENDAR
VERSION:2.0
PRODID:-//ChamberMaster//Event Calendar 2.0//EN
METHOD:PUBLISH
X-PUBLISHED-TTL:P3D
REFRESH-INTERVAL:P3D
CALSCALE:GREGORIAN
BEGIN:VEVENT
DTSTART:20190205T150000Z
DTEND:20190205T163000Z
X-MICROSOFT-CDO-ALLDAYEVENT:FALSE
SUMMARY:The mysteries of the very small explained
DESCRIPTION:The theory of quantum mechanics arose in the first half of the twentieth century to explain weird observations made on photons\, atoms\, and subatomic particles that could not be explained by classical physics. Research physicist and Old Guard member Phil Eisner will explain the mysteries of quantum theory which describes nature at its smallest scale. His lecture will take place in the New Providence Borough Hall on February 5 starting at 10 a.m. till 11.30 a.m. Guests are welcome. For more information visit our web site www.summitoldguard.org
X-ALT-DESC;FMTTYPE=text/html:The theory of quantum mechanics arose in the first half of the twentieth century to explain weird observations made on photons\, atoms\, and subatomic particles that could not be explained by classical physics. Research physicist and Old Guard member Phil Eisner will explain the mysteries of quantum theory which describes nature at its smallest scale. His lecture will take place in the New Providence Borough Hall on February 5 starting at 10 a.m. till 11.30 a.m. Guests are welcome. For more information visit our web site www.summitoldguard.org
LOCATION:New Providence Borough Hall
UID:e.870.14975
SEQUENCE:3
DTSTAMP:20260420T081008Z
URL:https://business.suburbanchambers.org/events/details/the-mysteries-of-the-very-small-explained-14975
END:VEVENT

END:VCALENDAR
