BEGIN:VCALENDAR
VERSION:2.0
PRODID:-//ChamberMaster//Event Calendar 2.0//EN
METHOD:PUBLISH
X-PUBLISHED-TTL:P3D
REFRESH-INTERVAL:P3D
CALSCALE:GREGORIAN
BEGIN:VEVENT
DTSTART:20190315T233000Z
DTEND:20190316T023000Z
X-MICROSOFT-CDO-ALLDAYEVENT:FALSE
SUMMARY:The Murphy Beds at the Minstrel
DESCRIPTION:Those who attended the Folk Project Fall Getaway last October will fondly remember The Murphy Beds (Jefferson Hamer and Eamon O'Leary). They present traditional and contemporary Irish music in sweet vocal harmony with delightful Irish charm. Their instrumental arrangements on guitar\, bouzouki\, and mandolin are exquisitely delicate and subtle. Opener Tal Naccarato plays old style ragtime and blues guitar after the fashion of such greats as Happy Traum and Dave Van Ronk. He delivers the classics of folks like Reverend Gary Davis and Jorma Kaukonen\, plus a few of his own compositions in the same genre. Wheelchair accessible\; free parking.
X-ALT-DESC;FMTTYPE=text/html:Those who attended the Folk Project Fall Getaway last October will fondly remember The Murphy Beds (Jefferson Hamer and Eamon O&rsquo\;Leary). They present traditional and contemporary Irish music in sweet vocal harmony with delightful Irish charm. Their instrumental arrangements on guitar\, bouzouki\, and mandolin are exquisitely delicate and subtle. Opener Tal Naccarato plays old style ragtime and blues guitar after the fashion of such greats as Happy Traum and Dave Van Ronk. He delivers the classics of folks like Reverend Gary Davis and Jorma Kaukonen\, plus a few of his own compositions in the same genre. Wheelchair accessible\; free parking.
LOCATION:Morristown Unitarian Fellowship 21 Normandy Heights Road Morristown\, NJ 07960
UID:e.870.15297
SEQUENCE:3
DTSTAMP:20260420T080435Z
URL:https://business.suburbanchambers.org/events/details/the-murphy-beds-at-the-minstrel-15297
END:VEVENT

END:VCALENDAR
