BEGIN:VCALENDAR
VERSION:2.0
PRODID:-//ChamberMaster//Event Calendar 2.0//EN
METHOD:PUBLISH
X-PUBLISHED-TTL:P3D
REFRESH-INTERVAL:P3D
CALSCALE:GREGORIAN
BEGIN:VEVENT
DTSTART:20180424T233000Z
DTEND:20180425T010000Z
X-MICROSOFT-CDO-ALLDAYEVENT:FALSE
SUMMARY:The Landmark Trees of Summit
DESCRIPTION:A talk by City Forester John Linson and RRA's Director of Horticulture\, Marc Montefusco at the Summit Free Public Library. The Friends of the Summit Free Public Library\, in conjunction with the City of Summit Shade Tree Advisory Committee\, invite the public to a slide show and discussion of the "Landmark Trees of Summit -- Revisited" as part of the City's 2018 Arbor Day celebrations. The presentation has been updated and expanded from the popular 2014 program on the same topic. Discussions will include what constitutes a "landmark" tree\, the City's efforts to identify and preserve such specimens\, and factors threatening their survival. A slide show of the ever-changing list of remarkable and historic trees in Summit will be presented. After the program\, Mr. Linson\, Mr Montefusco\, and members of the Shade Tree Advisory Committee will be available for questions at a reception. The program is free and all are welcome. Date/Time:  Tuesday\, April 24\, 7:30pm. Location:  Summit Free Public Library\, 75 Maple St\, Summit\, NJ 07901 Ages:  Adults Cost:  FREE\, All Welcome. Pre-Registration: NONE. More Information:  RRA Website? Contact:  Doreen Schindler\, D.Schindler@Reeves-ReedArboretum.org\, (908) 273-8787 x1010.
X-ALT-DESC;FMTTYPE=text/html:A talk by City Forester John Linson and RRA&#39\;s Director of Horticulture\, Marc Montefusco at the Summit Free Public Library. The Friends of the Summit Free Public Library\, in conjunction with the City of Summit Shade Tree Advisory Committee\, invite the public to a slide show and discussion of the &quot\;Landmark Trees of Summit -- Revisited&quot\; as part of the City&#39\;s 2018 Arbor Day celebrations. The presentation has been updated and expanded from the popular 2014 program on the same topic. Discussions will include what constitutes a &quot\;landmark&quot\; tree\, the City&#39\;s efforts to identify and preserve such specimens\, and factors threatening their survival. A slide show of the ever-changing list of remarkable and historic trees in Summit will be presented. After the program\, Mr. Linson\, Mr Montefusco\, and members of the Shade Tree Advisory Committee will be available for questions at a reception. The program is free and all are welcome. Date/Time:&nbsp\; Tuesday\, April 24\, 7:30pm. Location:&nbsp\; Summit Free Public Library\, 75 Maple St\, Summit\, NJ 07901 Ages:&nbsp\; Adults Cost:&nbsp\; FREE\, All Welcome. Pre-Registration: NONE. More Information:&nbsp\; RRA Website? Contact:&nbsp\; Doreen Schindler\, D.Schindler@Reeves-ReedArboretum.org\, (908) 273-8787 x1010.
LOCATION:Summit Free Public Library 75 Maple St Summit\, NJ 07901
UID:e.870.11884
SEQUENCE:3
DTSTAMP:20260421T160637Z
URL:https://business.suburbanchambers.org/events/details/the-landmark-trees-of-summit-11884
END:VEVENT

END:VCALENDAR
