BEGIN:VCALENDAR
VERSION:2.0
PRODID:-//ChamberMaster//Event Calendar 2.0//EN
METHOD:PUBLISH
X-PUBLISHED-TTL:P3D
REFRESH-INTERVAL:P3D
CALSCALE:GREGORIAN
BEGIN:VEVENT
DTSTART:20220612T200000Z
DTEND:20220612T220000Z
X-MICROSOFT-CDO-ALLDAYEVENT:FALSE
SUMMARY:"The King of Instruments"
DESCRIPTION:The Society of Musical Arts will present Camille Saint-Saens' majestic Symphony No. 3 "The Organ Symphony" featuring St. Paul's organist and music director Mark Hyczko. The 60-piece orchestra\, now in its 41st year\, will also present works of Copland and Sibelius. Maestro Stephen Culbertson now completes ten years as music director and conductor. Admission is free. Free-will donations will be accepted (and encouraged!)
X-ALT-DESC;FMTTYPE=text/html:The Society of Musical Arts will present Camille Saint-Saens&#39\; majestic Symphony No. 3 &quot\;The Organ Symphony&quot\; featuring St. Paul&#39\;s organist and music director Mark Hyczko. The 60-piece orchestra\, now in its 41st year\, will also present works of Copland and Sibelius. Maestro Stephen Culbertson now completes ten years as music director and conductor. Admission is free. Free-will donations will be accepted (and encouraged!)
LOCATION:St. Paul's Episcopal Church 414 E. Broad St. Westfield\, NJ 07090
UID:e.870.17578
SEQUENCE:3
DTSTAMP:20260422T183935Z
URL:https://business.suburbanchambers.org/events/details/the-king-of-instruments-17578
END:VEVENT

END:VCALENDAR
