BEGIN:VCALENDAR
VERSION:2.0
PRODID:-//ChamberMaster//Event Calendar 2.0//EN
METHOD:PUBLISH
X-PUBLISHED-TTL:P3D
REFRESH-INTERVAL:P3D
CALSCALE:GREGORIAN
BEGIN:VEVENT
DTSTART:20190302T010000Z
DTEND:20190302T010000Z
X-MICROSOFT-CDO-ALLDAYEVENT:FALSE
SUMMARY:'The Glass Menagerie' by Tennessee Williams
DESCRIPTION:The Glass Menagerie is a memory play by Tennessee Williams that catapulted Williams from obscurity to fame. It looks at the Wingfield family - frustrated writer Tom\, his nagging mother\, Amanda\, who is often lost in memories of her Southern-belle past\, and his painfully shy sister\, Laura and the effect a visit from a gentleman caller for Laura has on all their lives.The play premiered in Chicago in 1944 and later moved to Broadway where it won the New York Drama Critics' Circle Award in 1945. The Glass Menagerie was Williams' first successful play\; he went on to become one of America's most highly regarded playwrights. The cast features Gloria Lamoureux as Amanda Wingfield\, Gus Ibrany as Tom Wingfield\, Emily Miller as Laura Wingfield\, and Anthony Bentrovato as Jim O'Connor. The production is directed by Arnold Buchaine and produced by Pamela Wilczynski.
X-ALT-DESC;FMTTYPE=text/html:The Glass Menagerie is a memory play by Tennessee Williams that catapulted Williams from obscurity to fame. It looks at the Wingfield family - frustrated writer Tom\, his nagging mother\, Amanda\, who is often lost in memories of her Southern-belle past\, and his painfully shy sister\, Laura and the effect a visit from a gentleman caller for Laura has on all their lives.The play premiered in Chicago in 1944 and later moved to Broadway where it won the New York Drama Critics&#39\; Circle Award in 1945. The Glass Menagerie was Williams&#39\; first successful play\; he went on to become one of America&#39\;s most highly regarded playwrights. The cast features Gloria Lamoureux as Amanda Wingfield\, Gus Ibrany as Tom Wingfield\, Emily Miller as Laura Wingfield\, and Anthony Bentrovato as Jim O&#39\;Connor. The production is directed by Arnold Buchaine and produced by Pamela Wilczynski.
LOCATION:Summit Playhouse 10 New England Avenue Summit\, N.J.
UID:e.870.15330
SEQUENCE:3
DTSTAMP:20260420T042422Z
URL:https://business.suburbanchambers.org/events/details/the-glass-menagerie-by-tennessee-williams-15330
END:VEVENT

END:VCALENDAR
