BEGIN:VCALENDAR
VERSION:2.0
PRODID:-//ChamberMaster//Event Calendar 2.0//EN
METHOD:PUBLISH
X-PUBLISHED-TTL:P3D
REFRESH-INTERVAL:P3D
CALSCALE:GREGORIAN
BEGIN:VEVENT
DTSTART:20221202T000000Z
DTEND:20221202T010000Z
X-MICROSOFT-CDO-ALLDAYEVENT:FALSE
SUMMARY:The Connection presents a conversation with Heather McGhee\, Author of New York Times bestseller "THE SUM OF US"
DESCRIPTION:In celebration of a 100-year commitment to equal opportunity for all\, The Connection presents "What Racism Costs Everyone" a conversation with Heather McGhee\, in Partnership with Summit Interfaith Council\n\nA renowned expert on the American economy\, Heather McGhee is one of the most brilliant and influential thinkers exploring inequality today. Both her viral TED talk and her instant New York Times bestseller The Sum of Us reveal the devastating true cost of racism not just for people of color\, but for everyone. Deeply stirring\, intelligent\, and compassionate\, McGhee's talks offer us an actionable roadmap during one of the most critical and most troubled periods in history.  Hosted in partnership with ARC\, Anti Racism Committee\, Summit Interfaith Council. This program is made possible in part by a grant from the New Jersey Council for the Humanities\, a state partner of the National Endowment for the Humanities.
X-ALT-DESC;FMTTYPE=text/html:<h1><strong style="font-size:13px">In celebration of a 100-year commitment to equal opportunity for all\, The Connection presents &quot\;What Racism Costs Everyone&quot\; a conversation with Heather McGhee\, in Partnership with Summit Interfaith Council</strong><br />\n<span style="font-size:12px">A renowned expert on the American economy\, Heather McGhee is one of the most brilliant and influential thinkers exploring inequality today. Both her viral TED talk and her instant</span><em style="font-size:13px"><span style="font-size:12px"> </span>New York Times</em><span style="font-size:13px"> bestseller </span><em style="font-size:13px">The Sum of Us</em><span style="font-size:13px"> reveal the devastating true cost of racism&mdash\;not just for people of color\, but for everyone. Deeply stirring\, intelligent\, and compassionate\, McGhee&rsquo\;s talks offer us an actionable roadmap during one of the most critical&mdash\;and most troubled&mdash\;periods in history.&nbsp\; Hosted in partnership with ARC\, Anti Racism Committee\, Summit Interfaith Council.&nbsp\;This program is made possible in part by a grant from the New Jersey Council for the Humanities\, a state partner of the National Endowment for the Humanities.</span></h1>\n
LOCATION:Summit High School Auditorium 125 Kent Pl Blvd\, Summit\, NJ 07901
UID:e.870.18302
SEQUENCE:3
DTSTAMP:20260421T232548Z
URL:https://business.suburbanchambers.org/events/details/the-connection-presents-a-conversation-with-heather-mcghee-author-of-new-york-times-bestseller-the-sum-of-us-18302
END:VEVENT

END:VCALENDAR
