BEGIN:VCALENDAR
VERSION:2.0
PRODID:-//ChamberMaster//Event Calendar 2.0//EN
METHOD:PUBLISH
X-PUBLISHED-TTL:P3D
REFRESH-INTERVAL:P3D
CALSCALE:GREGORIAN
BEGIN:VEVENT
DTSTART:20230423T180000Z
DTEND:20230423T200000Z
X-MICROSOFT-CDO-ALLDAYEVENT:FALSE
SUMMARY:The Absolute Brightness of Leonard Pelkey
DESCRIPTION:One actor portrays every character in a small Jersey Shore town as he unravels the story of Leonard Pelkey\, a tenaciously optimistic and flamboyant fourteen-year-old boy who goes missing. A luminous force of nature whose magic is only truly felt once he is gone\, Leonard becomes an unexpected inspiration as the town's citizens question how they live\, who they love\, and what they leave behind.\n\n\n\n\n\nCast & Creative Team\n\nCast:\n\nScott McGowan*  \n\n \n\nDirector: Joshua Schnetzer\n\nStage Manager: Danielle Constance \n\nAssistant Stage Manager: Griffin O'Connor\n\nTechnical Director: Bryan Clarendon\n\nLighting designer: Zach Pizza\n\nSound designer: Jeff Knapp\n\nPlaywright: James Lecesne\n\n \n\n* member of the Vivid Stage ensemble\n\n  member of the Actors' Equity
X-ALT-DESC;FMTTYPE=text/html:<div>\n<h6><span style="font-size:12px"><span style="font-family:arial\,helvetica\,sans-serif">One actor portrays every character in a small Jersey Shore town as he unravels the story of Leonard Pelkey\, a tenaciously optimistic and flamboyant fourteen-year-old boy who goes missing. A luminous force of nature whose magic is only truly felt once he is gone\, Leonard becomes an unexpected inspiration as the town&rsquo\;s citizens question how they live\, who they love\, and what they leave behind.</span></span></h6>\n</div>\n\n<div>\n<h5><br />\n<span style="font-size:12px"><span style="font-family:arial\,helvetica\,sans-serif">Cast &amp\; Creative Team</span></span></h5>\n\n<p><span style="font-size:12px"><span style="font-family:arial\,helvetica\,sans-serif">Cast:</span></span></p>\n\n<p><span style="font-size:12px"><span style="font-family:arial\,helvetica\,sans-serif">Scott McGowan<em>*</em>&dagger\;&nbsp\;</span></span></p>\n\n<p>&nbsp\;</p>\n\n<p><span style="font-size:12px"><span style="font-family:arial\,helvetica\,sans-serif">Director: Joshua Schnetzer</span></span></p>\n\n<p><span style="font-size:12px"><span style="font-family:arial\,helvetica\,sans-serif">Stage Manager:&nbsp\;Danielle Constance&dagger\;</span></span></p>\n\n<p><span style="font-size:12px"><span style="font-family:arial\,helvetica\,sans-serif">Assistant Stage Manager:&nbsp\;Griffin O&#39\;Connor</span></span></p>\n\n<p><span style="font-size:12px"><span style="font-family:arial\,helvetica\,sans-serif">Technical Director: Bryan Clarendon</span></span></p>\n\n<p><span style="font-size:12px"><span style="font-family:arial\,helvetica\,sans-serif">Lighting designer:&nbsp\;Zach Pizza</span></span></p>\n\n<p><span style="font-size:12px"><span style="font-family:arial\,helvetica\,sans-serif">Sound designer:&nbsp\;Jeff Knapp</span></span></p>\n\n<p><span style="font-size:12px"><span style="font-family:arial\,helvetica\,sans-serif">Playwright: James Lecesne</span></span></p>\n\n<p>&nbsp\;</p>\n\n<p><span style="font-size:12px"><span style="font-family:arial\,helvetica\,sans-serif"><em>* member of the Vivid Stage ensemble</em></span></span></p>\n\n<p><span style="font-size:12px"><span style="font-family:arial\,helvetica\,sans-serif">&dagger\;&nbsp\;<em>member of the Actors&#39\; Equity</em></span></span></p>\n</div>\n
LOCATION:Oakes Center 120 Morris Avenue Summit\, NJ 07901
UID:e.870.18379
SEQUENCE:3
DTSTAMP:20260424T113611Z
URL:https://business.suburbanchambers.org/events/details/the-absolute-brightness-of-leonard-pelkey-18379
END:VEVENT

END:VCALENDAR
