BEGIN:VCALENDAR
VERSION:2.0
PRODID:-//ChamberMaster//Event Calendar 2.0//EN
METHOD:PUBLISH
X-PUBLISHED-TTL:P3D
REFRESH-INTERVAL:P3D
CALSCALE:GREGORIAN
BEGIN:VEVENT
DTSTART:20190509T200000Z
DTEND:20190509T220000Z
X-MICROSOFT-CDO-ALLDAYEVENT:FALSE
SUMMARY:Teen & Tween Cooking - No-Bake Cheesecake!
DESCRIPTION:You voted and cooking won over crafting for our May 9 event! Come learn how to make mini no-bake cheesecakes and take them to Mom for Mother's Day. Registration is required. Register online at https://register.communitypass.net/newprovidence
X-ALT-DESC;FMTTYPE=text/html:You voted and cooking won over crafting for our May 9 event! Come learn how to make mini no-bake cheesecakes and take them to Mom for Mother&rsquo\;s Day. Registration is required. Register online at https://register.communitypass.net/newprovidence
LOCATION:New Providence Memorial Library
UID:e.870.15411
SEQUENCE:3
DTSTAMP:20260419T233229Z
URL:https://business.suburbanchambers.org/events/details/teen-tween-cooking-no-bake-cheesecake-15411
END:VEVENT

END:VCALENDAR
