BEGIN:VCALENDAR
VERSION:2.0
PRODID:-//ChamberMaster//Event Calendar 2.0//EN
METHOD:PUBLISH
X-PUBLISHED-TTL:P3D
REFRESH-INTERVAL:P3D
CALSCALE:GREGORIAN
BEGIN:VEVENT
DTSTART:20190311T230000Z
DTEND:20190312T003000Z
X-MICROSOFT-CDO-ALLDAYEVENT:FALSE
SUMMARY:Teen Job-Hunting 101
DESCRIPTION:Teens and their parents are invited to come learn the ins and outs of teen job-hunting in our area. Local business owners\, organizations and HR reps will be part of a Panel Discussion on Job Hunting for teens\, and will feature information on specific jobs that are available to teens\, different types of work to consider\, how to prepare for interviews\, and more.
X-ALT-DESC;FMTTYPE=text/html:Teens and their parents are invited to come learn the ins and outs of teen job-hunting in our area. Local business owners\, organizations and HR reps will be part of a Panel Discussion on Job Hunting for teens\, and will feature information on specific jobs that are available to teens\, different types of work to consider\, how to prepare for interviews\, and more.&nbsp\;
LOCATION:New Providence Memorial Library 377 Elkwood Avenue New Providence\, NJ
UID:e.870.15291
SEQUENCE:3
DTSTAMP:20260420T081446Z
URL:https://business.suburbanchambers.org/events/details/teen-job-hunting-101-15291
END:VEVENT

END:VCALENDAR
