BEGIN:VCALENDAR
VERSION:2.0
PRODID:-//ChamberMaster//Event Calendar 2.0//EN
METHOD:PUBLISH
X-PUBLISHED-TTL:P3D
REFRESH-INTERVAL:P3D
CALSCALE:GREGORIAN
BEGIN:VEVENT
DTSTART:20190221T200000Z
DTEND:20190221T220000Z
X-MICROSOFT-CDO-ALLDAYEVENT:FALSE
SUMMARY:Teen Dystopian ESCAPE ROOM
DESCRIPTION:Unlock clues to emerge from the library's dystopia-themed escape room. Use knowledge of YA dystopian fiction to solve the puzzle. Open to 7-12th graders. Registration required.
X-ALT-DESC;FMTTYPE=text/html:Unlock clues to emerge from the library&#39\;s dystopia-themed escape room. Use knowledge of YA dystopian fiction to solve the puzzle. Open to 7-12th graders. Registration required.
LOCATION:New Providence Memorial Library
UID:e.870.15188
SEQUENCE:3
DTSTAMP:20260420T081149Z
URL:https://business.suburbanchambers.org/events/details/teen-dystopian-escape-room-15188
END:VEVENT

END:VCALENDAR
