BEGIN:VCALENDAR
VERSION:2.0
PRODID:-//ChamberMaster//Event Calendar 2.0//EN
METHOD:PUBLISH
X-PUBLISHED-TTL:P3D
REFRESH-INTERVAL:P3D
CALSCALE:GREGORIAN
BEGIN:VEVENT
DTSTART:20181015T203000Z
DTEND:20181015T221000Z
X-MICROSOFT-CDO-ALLDAYEVENT:FALSE
SUMMARY:Taxation University: Business Registration and Reporting Business Income
DESCRIPTION:The New Jersey Division of Taxation presents a session on different business structures\, their registration requirements with the state of New Jersey\, and how to report business income to the state.
X-ALT-DESC;FMTTYPE=text/html:The New Jersey Division of Taxation presents a session on different business structures\, their registration requirements with the state of New Jersey\, and how to report business income to the state.
LOCATION:New Providence Memorial Library\, 377 Elkwood Ave.
UID:e.870.14412
SEQUENCE:3
DTSTAMP:20260421T011721Z
URL:https://business.suburbanchambers.org/events/details/taxation-university-business-registration-and-reporting-business-income-14412
END:VEVENT

END:VCALENDAR
