BEGIN:VCALENDAR
VERSION:2.0
PRODID:-//ChamberMaster//Event Calendar 2.0//EN
METHOD:PUBLISH
X-PUBLISHED-TTL:P3D
REFRESH-INTERVAL:P3D
CALSCALE:GREGORIAN
BEGIN:VEVENT
DTSTART:20190309T233000Z
DTEND:20190310T040000Z
X-MICROSOFT-CDO-ALLDAYEVENT:FALSE
SUMMARY:Taste of Italy Dinner and Tricky Tray
DESCRIPTION:For the tenth consecutive year\, Home for Good Dog Rescue's "Taste of Italy" Spaghetti & Meatballs Dinner and Tricky Tray\, hosted by ABC New's Heather O'Rourke\, returns to the Long Hill Community Center in Stirling\, NJ. More than 300 guests\, each of whom receives a color program and is seated a designated table with a variety of marketing materials\, will gather on Saturday\, March 9\, 2019\, for a family-friendly Italian-themed dinner featuring a wealth of prizes\, community outreach\, and volunteer opportunities!
X-ALT-DESC;FMTTYPE=text/html:For the tenth consecutive year\, Home for Good Dog Rescue&rsquo\;s &ldquo\;Taste of Italy&rdquo\; Spaghetti &amp\; Meatballs Dinner and Tricky Tray\, hosted by ABC New&#39\;s Heather O&#39\;Rourke\, returns to the Long Hill Community Center in Stirling\, NJ. More than 300 guests\, each of whom receives a color program and is seated a designated table with a variety of marketing materials\, will gather on Saturday\, March 9\, 2019\, for a family-friendly Italian-themed dinner featuring a wealth of prizes\, community outreach\, and volunteer opportunities!&nbsp\;
LOCATION:Long Hill Community Center 264 S. Warren Avenue Stirling\, New Jersey
UID:e.870.15277
SEQUENCE:3
DTSTAMP:20260420T081411Z
URL:https://business.suburbanchambers.org/events/details/taste-of-italy-dinner-and-tricky-tray-15277
END:VEVENT

END:VCALENDAR
