BEGIN:VCALENDAR
VERSION:2.0
PRODID:-//ChamberMaster//Event Calendar 2.0//EN
METHOD:PUBLISH
X-PUBLISHED-TTL:P3D
REFRESH-INTERVAL:P3D
CALSCALE:GREGORIAN
BEGIN:VEVENT
DTSTART:20180608T230000Z
DTEND:20180609T013000Z
X-MICROSOFT-CDO-ALLDAYEVENT:FALSE
SUMMARY:Tandoori Style Grilling: Kebabs\, Rotis & More
DESCRIPTION:Tandoori Style Grilling: Kebabs\, Rotis & More\n\nMenu:\n\nClassic Flat Breads\; Indian Style\n\nSeafood Kebabs\n\nSaffron Malai Kebabs\n\nSeasonal Summer Mixed Salad\n\n\n\nWHAT TO EXPECT\nGreat cooking isn't about recipes?it's about techniques. In our cooking classes you'll have the opportunity to work together with other students in a fun\, hands-on environment led by our professional chefs and educators.\n\n\n	Classes are 2 to 2 1/2 hours long\n	All ingredients used in class are local\, fresh\, non-processed and of highest quality\n	You will be able to sit down and enjoy a generous portion of the food you prepared\n	We are happy to pair the right wine with the food prepared and you are allowed to bring your own\n	Please make sure you wear comfortable clothes and bring an apron\n\nClick Here to Register\n\n\n\nFor more classes and events visit Passionforspices.com.
X-ALT-DESC;FMTTYPE=text/html:<h1><span style="color:#B22222">Tandoori Style Grilling: Kebabs\, Rotis &amp\; More</span></h1>\n\n<p><strong>Menu:</strong><br />\nClassic Flat Breads\; Indian Style<br />\nSeafood Kebabs<br />\nSaffron Malai Kebabs<br />\nSeasonal Summer Mixed Salad<br />\n<br />\n<span style="font-size:16px"><strong><span style="color:rgb(255\, 160\, 122)">WHAT TO EXPECT</span></strong></span></p>\n<span style="color:rgb(59\, 59\, 59)\; font-family:merriweather\; font-size:14px">Great cooking isn&#39\;t about recipes?it&#39\;s about techniques. In our cooking classes you&#39\;ll have the opportunity to work together with other students in a fun\, hands-on environment led by our professional chefs and educators.</span>\n\n<ul>\n	<li>Classes are 2 to 2 1/2 hours long</li>\n	<li>All ingredients used in class are local\, fresh\, non-processed and of highest quality</li>\n	<li>You will be able to sit down and enjoy a generous portion of the food you prepared</li>\n	<li>We are happy to pair the right wine with the food prepared and you are allowed to bring your own</li>\n	<li>Please make sure you wear comfortable clothes and bring an apron</li>\n</ul>\n<strong><span style="font-size:16px"><a href="https://www.passionforspices.com/learn-to-cook/tandoori-style-grilling">Click Here to Register</a></span></strong><br />\n<br />\nFor more classes and events visit&nbsp\;<a href="http://Passionforspices.com/cooking-classes/">Passionforspices.com</a>.&nbsp\;
LOCATION:Calvary Episcopal Church 31 Woodland Ave\, Summit\, NJ 07901
UID:e.870.11791
SEQUENCE:3
DTSTAMP:20260421T101023Z
URL:https://business.suburbanchambers.org/events/details/tandoori-style-grilling-kebabs-rotis-more-06-08-2018-11791
END:VEVENT

END:VCALENDAR
