BEGIN:VCALENDAR
VERSION:2.0
PRODID:-//ChamberMaster//Event Calendar 2.0//EN
METHOD:PUBLISH
X-PUBLISHED-TTL:P3D
REFRESH-INTERVAL:P3D
CALSCALE:GREGORIAN
BEGIN:VEVENT
DTSTART:20190403T230000Z
DTEND:20190404T000000Z
X-MICROSOFT-CDO-ALLDAYEVENT:FALSE
SUMMARY:Taize Prayer Service
DESCRIPTION:Come on the first Wednesday night of each month to the Chapel for a special time of quiet meditation. Could you use a small corner of space to be quiet and still? Do you hunger for the chance to be in prayer with no expectations on you? Are your days full\, rushed? do you have a lot on your mind? This is the place for you! On these evenings we will have a prayer service in the Taize tradition\, which involves silence\, prayer\, and songs that are simple\, rhythmic and soothing. Come and let the Spirit peacefully enfold you.
X-ALT-DESC;FMTTYPE=text/html:Come on the first Wednesday night of each month to the Chapel for a special time of quiet meditation. Could you use a small corner of space to be quiet and still? Do you hunger for the chance to be in prayer with no expectations on you? Are your days full\, rushed? do you have a lot on your mind? This is the place for you! On these evenings we will have a prayer service in the Taize tradition\, which involves silence\, prayer\, and songs that are simple\, rhythmic and soothing. Come and let the Spirit peacefully enfold you.
LOCATION:The United Methodist Church of Summit 17 Kent Place Boulevard Summit\, NJ 07901
UID:e.870.14787
SEQUENCE:3
DTSTAMP:20260419T232114Z
URL:https://business.suburbanchambers.org/events/details/taize-prayer-service-04-03-2019-14787
END:VEVENT

END:VCALENDAR
