BEGIN:VCALENDAR
VERSION:2.0
PRODID:-//ChamberMaster//Event Calendar 2.0//EN
METHOD:PUBLISH
X-PUBLISHED-TTL:P3D
REFRESH-INTERVAL:P3D
CALSCALE:GREGORIAN
BEGIN:VEVENT
DTSTART:20181007T000000Z
DTEND:20181007T030000Z
X-MICROSOFT-CDO-ALLDAYEVENT:FALSE
SUMMARY:Swingin' Tern Contra Dancing
DESCRIPTION:Dance to caller and live band! Tonight's caller will be Alexandra Deis-Lauby and the band will be Brooklyn Swing Ensemble. Beginners workshop at 7:30 pm. No partner or experience necessary. Please carry in clean soft soled shoes for dancing. Just listening to the band is worth the admission and listeners are welcome!
X-ALT-DESC;FMTTYPE=text/html:Dance to caller and live band! Tonight&#39\;s caller will be Alexandra Deis-Lauby and the band will be Brooklyn Swing Ensemble. Beginners workshop at 7:30 pm. No partner or experience necessary. Please carry in clean soft soled shoes for dancing. Just listening to the band is worth the admission and listeners are welcome!
LOCATION:First Presbyterian Church Parish House 14 Hanover Road East Hanover NJ 07936
UID:e.870.14399
SEQUENCE:3
DTSTAMP:20260420T180439Z
URL:https://business.suburbanchambers.org/events/details/swingin-tern-contra-dancing-10-06-2018-14399
END:VEVENT

END:VCALENDAR
