BEGIN:VCALENDAR
VERSION:2.0
PRODID:-//ChamberMaster//Event Calendar 2.0//EN
METHOD:PUBLISH
X-PUBLISHED-TTL:P3D
REFRESH-INTERVAL:P3D
CALSCALE:GREGORIAN
BEGIN:VEVENT
DTSTART:20180902T000000Z
DTEND:20180902T030000Z
X-MICROSOFT-CDO-ALLDAYEVENT:FALSE
SUMMARY:Swingin' Tern Contra Dancing
DESCRIPTION:Dance to caller and live band! Tonight's caller will be Donna Hunt and the band will be Rhythmic Heart. No partner or experience necessary. Beginners workshop at 7:30 pm. Please carry in clean soft soled shoes for dancing. Just listening to the band is worth the admission and listeners are welcome.
X-ALT-DESC;FMTTYPE=text/html:Dance to caller and live band! Tonight&#39\;s caller will be Donna Hunt and the band will be Rhythmic Heart. No partner or experience necessary. Beginners workshop at 7:30 pm. Please carry in clean soft soled shoes for dancing. Just listening to the band is worth the admission and listeners are welcome.
LOCATION:First Presbyterian Church parish house 14 Hanover Road East Hanover NJ 07936
UID:e.870.14301
SEQUENCE:3
DTSTAMP:20260421T010154Z
URL:https://business.suburbanchambers.org/events/details/swingin-tern-contra-dancing-09-01-2018-14301
END:VEVENT

END:VCALENDAR
