BEGIN:VCALENDAR
VERSION:2.0
PRODID:-//ChamberMaster//Event Calendar 2.0//EN
METHOD:PUBLISH
X-PUBLISHED-TTL:P3D
REFRESH-INTERVAL:P3D
CALSCALE:GREGORIAN
BEGIN:VEVENT
DTSTART:20190420T233000Z
DTEND:20190421T023000Z
X-MICROSOFT-CDO-ALLDAYEVENT:FALSE
SUMMARY:Swingin' Tern Contra Dancing
DESCRIPTION:Dance to caller and live band! Rich Goss calls the contras tonight and Lake Effect plays the music. Beginners workshop at 7:00 pm. No partner or experience necessary. Please carry in clean soft soled shoes for dancing. Listeners welcome\; admission applies. Please note new\, earlier start time.
X-ALT-DESC;FMTTYPE=text/html:Dance to caller and live band! Rich Goss calls the contras tonight and Lake Effect plays the music. Beginners workshop at 7:00 pm. No partner or experience necessary. Please carry in clean soft soled shoes for dancing. Listeners welcome\; admission applies. Please note new\, earlier start time.
LOCATION:First Presbyterian Church parish house 14 Hanover road East Hanover NJ 07936
UID:e.870.15383
SEQUENCE:3
DTSTAMP:20260420T035555Z
URL:https://business.suburbanchambers.org/events/details/swingin-tern-contra-dancing-04-20-2019-15383
END:VEVENT

END:VCALENDAR
