BEGIN:VCALENDAR
VERSION:2.0
PRODID:-//ChamberMaster//Event Calendar 2.0//EN
METHOD:PUBLISH
X-PUBLISHED-TTL:P3D
REFRESH-INTERVAL:P3D
CALSCALE:GREGORIAN
BEGIN:VEVENT
DTSTART:20190406T233000Z
DTEND:20190407T020000Z
X-MICROSOFT-CDO-ALLDAYEVENT:FALSE
SUMMARY:Swingin' Tern Contra Dancing
DESCRIPTION:Donna Hunt calls the contras tonight and the band will be Brooklyn Swing Ensemble! Beginners workshop at 7:00 p.m. No partner or experience needed. Please carry in clean soft soled shoes for dancing. Listeners welcome\; admission applies.
X-ALT-DESC;FMTTYPE=text/html:Donna Hunt calls the contras tonight and the band will be Brooklyn Swing Ensemble! Beginners workshop at 7:00 p.m. No partner or experience needed. Please carry in clean soft soled shoes for dancing. Listeners welcome\; admission applies.
LOCATION:First Presbyterian Church Parish House 14 Hanover Road East Hanover\, NJ 07936
UID:e.870.15374
SEQUENCE:3
DTSTAMP:20260419T234821Z
URL:https://business.suburbanchambers.org/events/details/swingin-tern-contra-dancing-04-06-2019-15374
END:VEVENT

END:VCALENDAR
