BEGIN:VCALENDAR
VERSION:2.0
PRODID:-//ChamberMaster//Event Calendar 2.0//EN
METHOD:PUBLISH
X-PUBLISHED-TTL:P3D
REFRESH-INTERVAL:P3D
CALSCALE:GREGORIAN
BEGIN:VEVENT
DTSTART:20190317T000000Z
DTEND:20190317T030000Z
X-MICROSOFT-CDO-ALLDAYEVENT:FALSE
SUMMARY:Swingin' Tern Contra Dancing
DESCRIPTION:Tonight's caller will be Desiree Halcomb and the band will be Jody Kruskal Band. Beginners' workshop at 7:30 pm. No partner or experience necessary. Please carry in clean soft soled shoes for dancing. Just listening to the band is worth the admission and listeners are welcome.
X-ALT-DESC;FMTTYPE=text/html:Tonight&#39\;s caller will be Desiree Halcomb and the band will be Jody Kruskal Band. Beginners&#39\; workshop at 7:30 pm. No partner or experience necessary. Please carry in clean soft soled shoes for dancing. Just listening to the band is worth the admission and listeners are welcome.
LOCATION:First Presbyterian Church Parish House 14 Hanover Road East Hanover\, NJ 07936
UID:e.870.15301
SEQUENCE:3
DTSTAMP:20260420T074520Z
URL:https://business.suburbanchambers.org/events/details/swingin-tern-contra-dancing-03-16-2019-15301
END:VEVENT

END:VCALENDAR
