BEGIN:VCALENDAR
VERSION:2.0
PRODID:-//ChamberMaster//Event Calendar 2.0//EN
METHOD:PUBLISH
X-PUBLISHED-TTL:P3D
REFRESH-INTERVAL:P3D
CALSCALE:GREGORIAN
BEGIN:VEVENT
DTSTART:20190303T010000Z
DTEND:20190303T030000Z
X-MICROSOFT-CDO-ALLDAYEVENT:FALSE
SUMMARY:Swingin' Tern Contra Dancing
DESCRIPTION:Tonight's caller will be Donna Hunt and the band will be Coracree. Beginners' workshop at 7:30 pm. No partner or experience necessary. Please carry in clean soft soled shoes for dancing. Tonight's dance is free (donations appreciated).
X-ALT-DESC;FMTTYPE=text/html:Tonight&#39\;s caller will be Donna Hunt and the band will be Coracree. Beginners&#39\; workshop at 7:30 pm. No partner or experience necessary. Please carry in clean soft soled shoes for dancing. Tonight&#39\;s dance is free (donations appreciated).
LOCATION:First Presbyterian Church Parish House 14 Hanover Road East Hanover\, NJ 07936
UID:e.870.15300
SEQUENCE:3
DTSTAMP:20260420T074757Z
URL:https://business.suburbanchambers.org/events/details/swingin-tern-contra-dancing-03-02-2019-15300
END:VEVENT

END:VCALENDAR
