BEGIN:VCALENDAR
VERSION:2.0
PRODID:-//ChamberMaster//Event Calendar 2.0//EN
METHOD:PUBLISH
X-PUBLISHED-TTL:P3D
REFRESH-INTERVAL:P3D
CALSCALE:GREGORIAN
BEGIN:VEVENT
DTSTART:20190203T010000Z
DTEND:20190203T030000Z
X-MICROSOFT-CDO-ALLDAYEVENT:FALSE
SUMMARY:Swingin' Tern Contra Dancing
DESCRIPTION:Contra dancing to caller and live band! Tonight's caller will be Ron Blechner and the band will be Raise the Roof. Beginners workshop at 7:30 pm. No partner or experience necessary. Please carry in clean soft soled shoes for dancing.Just listening to the band is worth the admission and listeners are welcome.
X-ALT-DESC;FMTTYPE=text/html:Contra dancing to caller and live band! Tonight&#39\;s caller will be Ron Blechner and the band will be Raise the Roof. Beginners workshop at 7:30 pm. No partner or experience necessary. Please carry in clean soft soled shoes for dancing.Just listening to the band is worth the admission and listeners are welcome.
LOCATION:First Presbyterian Church Parish House 14 Hanover Road East Hanover NJ 07936
UID:e.870.15210
SEQUENCE:3
DTSTAMP:20260420T075726Z
URL:https://business.suburbanchambers.org/events/details/swingin-tern-contra-dancing-02-02-2019-15210
END:VEVENT

END:VCALENDAR
