BEGIN:VCALENDAR
VERSION:2.0
PRODID:-//ChamberMaster//Event Calendar 2.0//EN
METHOD:PUBLISH
X-PUBLISHED-TTL:P3D
REFRESH-INTERVAL:P3D
CALSCALE:GREGORIAN
BEGIN:VEVENT
DTSTART:20190106T010000Z
DTEND:20190106T040000Z
X-MICROSOFT-CDO-ALLDAYEVENT:FALSE
SUMMARY:Swingin' Tern Contra Dancing
DESCRIPTION:Dance to caller and live band! No partner or experience necessary. Beginners workshop at 7:30 pm. Please carry in clean soft soled shoes for dancing. This event best for middle school age and up. Just listening to the band is worth the admission and listeners are welcome.
X-ALT-DESC;FMTTYPE=text/html:Dance to caller and live band! No partner or experience necessary. Beginners workshop at 7:30 pm. Please carry in clean soft soled shoes for dancing. This event best for middle school age and up. Just listening to the band is worth the admission and listeners are welcome.
LOCATION:First Presbyterian Church Parish House 14 Hanover Road East Hanover NJ 07936
UID:e.870.14844
SEQUENCE:3
DTSTAMP:20260420T112946Z
URL:https://business.suburbanchambers.org/events/details/swingin-tern-contra-dancing-01-05-2019-14844
END:VEVENT

END:VCALENDAR
