BEGIN:VCALENDAR
VERSION:2.0
PRODID:-//ChamberMaster//Event Calendar 2.0//EN
METHOD:PUBLISH
X-PUBLISHED-TTL:P3D
REFRESH-INTERVAL:P3D
CALSCALE:GREGORIAN
BEGIN:VEVENT
DTSTART:20190105T003000Z
DTEND:20190105T033000Z
X-MICROSOFT-CDO-ALLDAYEVENT:FALSE
SUMMARY:Susan Werner at the Minstrel
DESCRIPTION:Zoe Mulford opens. Wheelchair accessible\; free parking.
X-ALT-DESC;FMTTYPE=text/html:Zoe Mulford opens. Wheelchair accessible\; free parking.
LOCATION:Morristown Unitarian Fellowship 21 Normandy Heights Road Morristown NJ 07960
UID:e.870.14840
SEQUENCE:3
DTSTAMP:20260420T143325Z
URL:https://business.suburbanchambers.org/events/details/susan-werner-at-the-minstrel-14840
END:VEVENT

END:VCALENDAR
