BEGIN:VCALENDAR
VERSION:2.0
PRODID:-//ChamberMaster//Event Calendar 2.0//EN
METHOD:PUBLISH
X-PUBLISHED-TTL:P3D
REFRESH-INTERVAL:P3D
CALSCALE:GREGORIAN
BEGIN:VEVENT
DTSTART:20190425T221500Z
DTEND:20190426T003000Z
X-MICROSOFT-CDO-ALLDAYEVENT:FALSE
SUMMARY:Supporting Children\, Teens\, and Adults Coping with Loss
DESCRIPTION:Open to all members of the community please join Imagine for a workshop Supporting Children\, Teens\, and Adults Coping with Loss\, and invite your friends and family. Ideal for parents\, caregivers\, social workers\, teachers and therapists\, co-workers and your employees. CE credits available for social workers.
X-ALT-DESC;FMTTYPE=text/html:Open to all members of the community please join Imagine for a workshop Supporting Children\, Teens\, and Adults Coping with Loss\, and invite your friends and family. Ideal for parents\, caregivers\, social workers\, teachers and therapists\, co-workers and your employees. CE credits available for social workers.
LOCATION:244 Sheffield Street\, Mountainside\, NJ 07092
UID:e.870.15375
SEQUENCE:3
DTSTAMP:20260420T040039Z
URL:https://business.suburbanchambers.org/events/details/supporting-children-teens-and-adults-coping-with-loss-15375
END:VEVENT

END:VCALENDAR
