BEGIN:VCALENDAR
VERSION:2.0
PRODID:-//ChamberMaster//Event Calendar 2.0//EN
METHOD:PUBLISH
X-PUBLISHED-TTL:P3D
REFRESH-INTERVAL:P3D
CALSCALE:GREGORIAN
BEGIN:VEVENT
DTSTART:20181002T223000Z
DTEND:20181002T233000Z
X-MICROSOFT-CDO-ALLDAYEVENT:FALSE
SUMMARY:Sunset Garden Tour at Reeves-Reed Arboretum
DESCRIPTION:The first blush of autumn is descending and so too is the sun in this tour of the Arboretum grounds. Accompany Lead Horticulturist Julieanne Frascinella on a tour of the lush gardens and explore what few visitors get to see: the Arboretum at sunset. This exclusive tour is perfect for garden lovers as well as photographers in search of the golden hour! Tour will meet in Wisner House Gallery. Registration is required. Date/Time: Tuesday\, October 2\, 6:30pm - 7:30pm. Location:  Reeves-Reed Arboretum\, 165 Hobart Ave.\, Summit\, NJ 07901 Ages:  All Cost:  Members: $5\, Non-Members: $15 Pre-Registration:  Required. On-Line Registration:  Visit our website? More Information:  RRA Website? Contact:  Doreen Schindler\, D.Schindler@Reeves-ReedArboretum.org\, (908) 273-8787 x1010.
X-ALT-DESC;FMTTYPE=text/html:The first blush of autumn is descending and so too is the sun in this tour of the Arboretum grounds. Accompany Lead Horticulturist Julieanne Frascinella on a tour of the lush gardens and explore what few visitors get to see: the Arboretum at sunset. This exclusive tour is perfect for garden lovers as well as photographers in search of the golden hour! Tour will meet in Wisner House Gallery. Registration is required. Date/Time:&nbsp\;Tuesday\, October 2\, 6:30pm - 7:30pm. Location:&nbsp\; Reeves-Reed Arboretum\, 165 Hobart Ave.\, Summit\, NJ 07901 Ages:&nbsp\; All Cost:&nbsp\; Members: $5\, Non-Members: $15 Pre-Registration:&nbsp\; Required. On-Line Registration:&nbsp\; Visit our website? More Information:&nbsp\; RRA Website? Contact:&nbsp\; Doreen Schindler\, D.Schindler@Reeves-ReedArboretum.org\, (908) 273-8787 x1010.
LOCATION:Reeves-Reed Arboretum\, 165 Hobart Ave.\, Summit\, NJ 07901
UID:e.870.14522
SEQUENCE:3
DTSTAMP:20260420T221310Z
URL:https://business.suburbanchambers.org/events/details/sunset-garden-tour-at-reeves-reed-arboretum-14522
END:VEVENT

END:VCALENDAR
