BEGIN:VCALENDAR
VERSION:2.0
PRODID:-//ChamberMaster//Event Calendar 2.0//EN
METHOD:PUBLISH
X-PUBLISHED-TTL:P3D
REFRESH-INTERVAL:P3D
CALSCALE:GREGORIAN
BEGIN:VEVENT
DTSTART:20230423T230000Z
DTEND:20230424T010000Z
X-MICROSOFT-CDO-ALLDAYEVENT:FALSE
SUMMARY:Sunday Night Jazz with Cyrille Aimee
DESCRIPTION:Reeves-Reed Arboretum is excited to welcome back Grammy nominated artist\, Cyrille Aim e\, for a Sunday evening of jazz with pianist Mathis Picard! The duo promises a "sneak peek" of their upcoming new album and a dazzling performance highlighting Aimee's "winsome charm\, supple voice and stylistic diversity\, incorporating buoyant swing\, French and Latin tinges\, and graceful touches of folk and pop." Join us after the performance for a glass of Champagne and a sweet treat.
X-ALT-DESC;FMTTYPE=text/html:Reeves-Reed Arboretum is excited to welcome back Grammy nominated artist\, Cyrille Aim&eacute\;e\, for a Sunday evening of jazz with pianist Mathis Picard! The duo promises a &ldquo\;sneak peek&rdquo\; of their upcoming new album and a dazzling performance highlighting Aimee&rsquo\;s &ldquo\;winsome charm\, supple voice and stylistic diversity\, incorporating buoyant swing\, French and Latin tinges\, and graceful touches of folk and pop.&rdquo\; Join us after the performance for a glass of Champagne and a sweet treat.
LOCATION:Reeves-Reed Arboretum 165 Hobart Avenue\, Summit
UID:e.870.18333
SEQUENCE:3
DTSTAMP:20260424T150329Z
URL:https://business.suburbanchambers.org/events/details/sunday-night-jazz-with-cyrille-aimee-18333
END:VEVENT

END:VCALENDAR
