BEGIN:VCALENDAR
VERSION:2.0
PRODID:-//ChamberMaster//Event Calendar 2.0//EN
METHOD:PUBLISH
X-PUBLISHED-TTL:P3D
REFRESH-INTERVAL:P3D
CALSCALE:GREGORIAN
BEGIN:VEVENT
DTSTART:20180917T163000Z
DTEND:20180917T173000Z
X-MICROSOFT-CDO-ALLDAYEVENT:FALSE
SUMMARY:Summit YMCA Lunch & learn "Warm Up & Stretch"
DESCRIPTION:Ever wonder if the time you spend warming up or stretching is enough or is a waste of your time?  Dr. Olivia Ashley is a Physical Therapist and Orthopedic Certified Specialist with over 10 years of experience.  She will use her knowledge of movement to demonstrate why you need dynamic strength and flexibility for moves you do every day.  Dr. Ashley will explain the importance and benefits of taking the time to warm-up and stretch where it is needed so you get the most out of your work-out in a safe and effective manner.
X-ALT-DESC;FMTTYPE=text/html:Ever wonder if the time you spend warming up or stretching is enough or is a waste of your time?&nbsp\; Dr. Olivia Ashley is a Physical Therapist and Orthopedic Certified Specialist with over 10 years of experience.&nbsp\; She will use her knowledge of movement to demonstrate why you need dynamic strength and flexibility for moves you do every day.&nbsp\; Dr. Ashley will explain the importance and benefits of taking the time to warm-up and stretch where it is needed so you get the most out of your work-out in a safe and effective manner.
LOCATION:Summit YMCA 67 Maple Street Summit NJ
UID:e.870.14125
SEQUENCE:3
DTSTAMP:20260421T035714Z
URL:https://business.suburbanchambers.org/events/details/summit-ymca-lunch-learn-warm-up-stretch-14125
END:VEVENT

END:VCALENDAR
