BEGIN:VCALENDAR
VERSION:2.0
PRODID:-//ChamberMaster//Event Calendar 2.0//EN
METHOD:PUBLISH
X-PUBLISHED-TTL:P3D
REFRESH-INTERVAL:P3D
CALSCALE:GREGORIAN
BEGIN:VEVENT
DTSTART:20181001T160000Z
DTEND:20181001T160000Z
X-MICROSOFT-CDO-ALLDAYEVENT:FALSE
SUMMARY:Summit YMCA lunch & Learn "Medicare Supplements"
DESCRIPTION:Hulya Egin from Bankers Life Insurance will discuss Medicare supplements and how they apply to you. A light lunch will be served
X-ALT-DESC;FMTTYPE=text/html:Hulya Egin from Bankers Life Insurance will discuss Medicare supplements and how they apply to you. A light lunch will be served
LOCATION:Summit YMCA 67 Maple Street Summit NJ
UID:e.870.14126
SEQUENCE:3
DTSTAMP:20260420T213925Z
URL:https://business.suburbanchambers.org/events/details/summit-ymca-lunch-learn-medicare-supplements-14126
END:VEVENT

END:VCALENDAR
