BEGIN:VCALENDAR
VERSION:2.0
PRODID:-//ChamberMaster//Event Calendar 2.0//EN
METHOD:PUBLISH
X-PUBLISHED-TTL:P3D
REFRESH-INTERVAL:P3D
CALSCALE:GREGORIAN
BEGIN:VEVENT
DTSTART:20190522T160000Z
DTEND:20190522T183000Z
X-MICROSOFT-CDO-ALLDAYEVENT:FALSE
SUMMARY:Summit YMCA Duplicate Bridge
DESCRIPTION:Come join your Summit YMCA friends each Wednesday and enjoy an afternoon of duplicate bridge. Connect with others and engage your mind playing this fun\, competitive game. Director on site to supervise game and answer questions.
X-ALT-DESC;FMTTYPE=text/html:Come join your Summit YMCA friends each Wednesday and enjoy an afternoon of duplicate bridge. Connect with others and engage your mind playing this fun\, competitive game. Director on site to supervise game and answer questions.
LOCATION:Summit YMCA 67 Maple Street Summit NJ
UID:e.870.14965
SEQUENCE:3
DTSTAMP:20260419T190205Z
URL:https://business.suburbanchambers.org/events/details/summit-ymca-duplicate-bridge-05-22-2019-14965
END:VEVENT

END:VCALENDAR
