BEGIN:VCALENDAR
VERSION:2.0
PRODID:-//ChamberMaster//Event Calendar 2.0//EN
METHOD:PUBLISH
X-PUBLISHED-TTL:P3D
REFRESH-INTERVAL:P3D
CALSCALE:GREGORIAN
BEGIN:VEVENT
DTSTART:20190506T160000Z
DTEND:20190506T170000Z
X-MICROSOFT-CDO-ALLDAYEVENT:FALSE
SUMMARY:Summit YMCA Book Group
DESCRIPTION:Join your YMCA friends to discuss the book of the month. Engage in fun and meaningful group discussions! Bring your suggestions for future books! "The Curious Incident of the Dog in the Night-time" by Mark Haddon PRE-REGISTRATION REQUIRED
X-ALT-DESC;FMTTYPE=text/html:Join your YMCA friends to discuss the book of the month. Engage in fun and meaningful group discussions! Bring your suggestions for future books! &ldquo\;The Curious Incident of the Dog in the Night-time&rdquo\; by Mark Haddon PRE-REGISTRATION REQUIRED
LOCATION:Summit YMCA 67 Maple Street Summit NJ
UID:e.870.14865
SEQUENCE:3
DTSTAMP:20260419T185821Z
URL:https://business.suburbanchambers.org/events/details/summit-ymca-book-group-14865
END:VEVENT

END:VCALENDAR
