BEGIN:VCALENDAR
VERSION:2.0
PRODID:-//ChamberMaster//Event Calendar 2.0//EN
METHOD:PUBLISH
X-PUBLISHED-TTL:P3D
REFRESH-INTERVAL:P3D
CALSCALE:GREGORIAN
BEGIN:VEVENT
DTSTART:20190317T180000Z
DTEND:20190317T203000Z
X-MICROSOFT-CDO-ALLDAYEVENT:FALSE
SUMMARY:Summit Symphony Conceert
DESCRIPTION:The Summit Symphony Orchestra continues its 2018-19 season on Sunday\, March 17 at 2:00pm\, at Summit High School on Kent Place Blvd. in Summit. The concert will include music by Bach\, Beethoven and Bartok. Admission to all Summit Symphony concerts is free but donations are gratefully accepted. "Dances in Time" will feature concert music meant for or inspired by dance. Bach's Orchestra Suite #3\, written around 1731\, includes the movement now known as "Air on a G String". Bartok's Roumanian Dances are just that\, orchestral pieces based on Roumanian folk dances. Symphony No. 7 by Beethoven is often considered to be dance like. Musical director Michael Avagliano will be presenting an afternoon talk on the concert at the Summit Library on Thursday\, March 14. Please check with the library (908.273.0350) for the exact time. The Summit Symphony has been providing free orchestral concerts for the Summit area since 1938. Their 2018-19 season includes 4 performances\, the final one being on May 19. For more information about this concert and about the Summit Symphony Orchestra\, please visit www.summitsymphony.org.
X-ALT-DESC;FMTTYPE=text/html:The Summit Symphony Orchestra continues its 2018-19 season on Sunday\, March 17 at 2:00pm\, at Summit High School on Kent Place Blvd. in Summit. The concert will include music by Bach\, Beethoven and Bartok. Admission to all Summit Symphony concerts is free but donations are gratefully accepted. &ldquo\;Dances in Time&rdquo\; will feature concert music meant for or inspired by dance. Bach&rsquo\;s Orchestra Suite #3\, written around 1731\, includes the movement now known as &ldquo\;Air on a G String&rdquo\;. Bartok&rsquo\;s Roumanian Dances are just that\, orchestral pieces based on Roumanian folk dances. Symphony No. 7 by Beethoven is often considered to be dance like. Musical director Michael Avagliano will be presenting an afternoon talk on the concert at the Summit Library on Thursday\, March 14. Please check with the library (908.273.0350) for the exact time. The Summit Symphony has been providing free orchestral concerts for the Summit area since 1938. Their 2018-19 season includes 4 performances\, the final one being on May 19. For more information about this concert and about the Summit Symphony Orchestra\, please visit www.summitsymphony.org.
LOCATION:Summit High School 125 Kent Place Blvd. Summit\, NJ 07901
UID:e.870.15350
SEQUENCE:3
DTSTAMP:20260420T034107Z
URL:https://business.suburbanchambers.org/events/details/summit-symphony-conceert-15350
END:VEVENT

END:VCALENDAR
