BEGIN:VCALENDAR
VERSION:2.0
PRODID:-//ChamberMaster//Event Calendar 2.0//EN
METHOD:PUBLISH
X-PUBLISHED-TTL:P3D
REFRESH-INTERVAL:P3D
CALSCALE:GREGORIAN
BEGIN:VEVENT
DTSTART:20240530T140000Z
DTEND:20240530T190000Z
X-MICROSOFT-CDO-ALLDAYEVENT:FALSE
SUMMARY:Summit Garden Tour
DESCRIPTION:Reeves-Reed Arboretum and the Summit Garden Club are excited to present a Summit Garden Tour in celebration of the Arboretum's 50th Anniversary as a non-profit public arboretum! Your anniversary tour ticket includes a self-guided tour of 8 uniquely designed gardens\, a light spring-themed tea\, and pop-up garden shop.
X-ALT-DESC;FMTTYPE=text/html:Reeves-Reed Arboretum and the Summit Garden Club are excited to present a Summit Garden Tour in celebration of the Arboretum&rsquo\;s 50th Anniversary as a non-profit public arboretum! Your anniversary tour ticket includes a self-guided tour of 8 uniquely designed gardens\, a light spring-themed tea\, and pop-up garden shop.
LOCATION:8 locations throughout Summit
UID:e.870.18520
SEQUENCE:3
DTSTAMP:20260421T155618Z
URL:https://business.suburbanchambers.org/events/details/summit-garden-tour-18520
END:VEVENT

END:VCALENDAR
