BEGIN:VCALENDAR
VERSION:2.0
PRODID:-//ChamberMaster//Event Calendar 2.0//EN
METHOD:PUBLISH
X-PUBLISHED-TTL:P3D
REFRESH-INTERVAL:P3D
CALSCALE:GREGORIAN
BEGIN:VEVENT
DTSTART:20181028T120000Z
DTEND:20181028T170000Z
X-MICROSOFT-CDO-ALLDAYEVENT:FALSE
SUMMARY:Summit Farmers Market
DESCRIPTION:The Summit Farmers Market is back for its 23rd year!  The market will be open 8am-1pm every Sunday\, April 22-November 18.  Visit the market to purchase high quality\, locally grown and produced cheese\, pickles\, baked goods\, honey\, produce\, bread\, pasta\, soap\, wool\, and more. Come early and stay late to enjoy all the market has to offer!  For more details\, visit summitfarmersmarket.com.
X-ALT-DESC;FMTTYPE=text/html:The Summit Farmers Market is back for its 23<sup>rd</sup> year!&nbsp\; The market will be open 8am-1pm every Sunday\, April 22-November 18.&nbsp\; Visit the market to purchase high quality\, locally grown and produced cheese\, pickles\, baked goods\, honey\, produce\, bread\, pasta\, soap\, wool\, and more. Come early and stay late to enjoy all the market has to offer!&nbsp\; For more details\, visit summitfarmersmarket.com.
LOCATION:Park & Shop Lot #2 (22 Deforest Ave) Summit\, NJ
UID:e.870.12966
SEQUENCE:3
DTSTAMP:20260420T220906Z
URL:https://business.suburbanchambers.org/events/details/summit-farmers-market-10-28-2018-12966
END:VEVENT

END:VCALENDAR
