BEGIN:VCALENDAR
VERSION:2.0
PRODID:-//ChamberMaster//Event Calendar 2.0//EN
METHOD:PUBLISH
X-PUBLISHED-TTL:P3D
REFRESH-INTERVAL:P3D
CALSCALE:GREGORIAN
BEGIN:VEVENT
DTSTART:20181031T183000Z
DTEND:20181031T200000Z
X-MICROSOFT-CDO-ALLDAYEVENT:FALSE
SUMMARY:Summit Downtown Trick or Treat
DESCRIPTION:Children are invited to don their costumes and venture into downtown Summit after school on Wednesday\, October 31. Downtown businesses displaying a Trick-or-Treat poster in their window will be waiting to hand out treats.  Special thanks to Regal Bank for sponsoring this fun community event.
X-ALT-DESC;FMTTYPE=text/html:<span style="color:rgb(33\, 33\, 33)\; font-family:calibri\,sans-serif\; font-size:14.6667px">Children are invited to don their costumes and venture into downtown Summit after school on Wednesday\, October 31. Downtown businesses displaying a Trick-or-Treat poster in their window will be waiting to hand out treats.&nbsp\; Special thanks to Regal Bank for sponsoring this fun community event.</span>
LOCATION:Summit downtown businesses displaying a Trick-or-Treat poster in their window will be waiting to hand out treats.
UID:e.870.14528
SEQUENCE:3
DTSTAMP:20260421T004527Z
URL:https://business.suburbanchambers.org/events/details/summit-downtown-trick-or-treat-14528
END:VEVENT

END:VCALENDAR
