BEGIN:VCALENDAR
VERSION:2.0
PRODID:-//ChamberMaster//Event Calendar 2.0//EN
METHOD:PUBLISH
X-PUBLISHED-TTL:P3D
REFRESH-INTERVAL:P3D
CALSCALE:GREGORIAN
BEGIN:VEVENT
DTSTART:20190409T130000Z
DTEND:20190409T180000Z
X-MICROSOFT-CDO-ALLDAYEVENT:FALSE
SUMMARY:Summit College Club Book Sale Preview Day
DESCRIPTION:Summit College Club Annual Book Sale offering over 30\,000 books\, most priced at 50c to $2.00.
X-ALT-DESC;FMTTYPE=text/html:Summit College Club Annual Book Sale offering over 30\,000 books\, most priced at 50c to $2.00.
LOCATION:American Legion 357 Elkwood Ave New Providence\, NJ
UID:e.870.15351
SEQUENCE:3
DTSTAMP:20260420T000932Z
URL:https://business.suburbanchambers.org/events/details/summit-college-club-book-sale-preview-day-04-09-2019-15351
END:VEVENT

END:VCALENDAR
