BEGIN:VCALENDAR
VERSION:2.0
PRODID:-//ChamberMaster//Event Calendar 2.0//EN
METHOD:PUBLISH
X-PUBLISHED-TTL:P3D
REFRESH-INTERVAL:P3D
CALSCALE:GREGORIAN
BEGIN:VEVENT
DTSTART:20190414T140000Z
DTEND:20190414T200000Z
X-MICROSOFT-CDO-ALLDAYEVENT:FALSE
SUMMARY:Summit College Club Book Sale
DESCRIPTION:Summit College Club Annual Book Sale - Bag Day ($5 per filled grocery bag)\, offering thousands of books. Free entry. Proceeds from the sale are used to fund college scholarships for deserving young women in local high schools.
X-ALT-DESC;FMTTYPE=text/html:Summit College Club Annual Book Sale - Bag Day ($5 per filled grocery bag)\, offering thousands of books. Free entry. Proceeds from the sale are used to fund college scholarships for deserving young women in local high schools.
LOCATION:American Legion 357 Elkwood Ave New Providence\, NJ
UID:e.870.15356
SEQUENCE:3
DTSTAMP:20260420T000602Z
URL:https://business.suburbanchambers.org/events/details/summit-college-club-book-sale-04-14-2019-15356
END:VEVENT

END:VCALENDAR
