BEGIN:VCALENDAR
VERSION:2.0
PRODID:-//ChamberMaster//Event Calendar 2.0//EN
METHOD:PUBLISH
X-PUBLISHED-TTL:P3D
REFRESH-INTERVAL:P3D
CALSCALE:GREGORIAN
BEGIN:VEVENT
DTSTART:20190404T140000Z
DTEND:20190405T010000Z
X-MICROSOFT-CDO-ALLDAYEVENT:FALSE
SUMMARY:Summit College Club Book Donations
DESCRIPTION:The Summit College Club (SCC) is seeking book donations for its annual Book Sale in April. Donations should be brought to the American Legion Post No. 433 from March 29 through April 5\, 2019\, located at 357 Elkwood Ave.\, New Providence\, NJ\, next to the library. The books must be in good condition and packed in bags or small boxes. Donations of books\, CDs\, and DVDs are welcome but please no textbooks\, manuals\, magazines or encyclopedias.
X-ALT-DESC;FMTTYPE=text/html:The Summit College Club (SCC) is seeking book donations for its annual Book Sale in April. Donations should be brought to the American Legion Post No. 433 from March 29 through April 5\, 2019\, located at 357 Elkwood Ave.\, New Providence\, NJ\, next to the library. The books must be in good condition and packed in bags or small boxes. Donations of books\, CDs\, and DVDs are welcome but please no textbooks\, manuals\, magazines or encyclopedias.
LOCATION:American Legion Post 433 357 Elkwood Ave New Providence\, NJ
UID:e.870.15272
SEQUENCE:3
DTSTAMP:20260419T235646Z
URL:https://business.suburbanchambers.org/events/details/summit-college-club-book-donations-04-04-2019-15272
END:VEVENT

END:VCALENDAR
