BEGIN:VCALENDAR
VERSION:2.0
PRODID:-//ChamberMaster//Event Calendar 2.0//EN
METHOD:PUBLISH
X-PUBLISHED-TTL:P3D
REFRESH-INTERVAL:P3D
CALSCALE:GREGORIAN
BEGIN:VEVENT
DTSTART;VALUE=DATE:20190520
DTEND;VALUE=DATE:20190521
TRANSP:TRANSPARENT
X-MICROSOFT-CDO-ALLDAYEVENT:TRUE
SUMMARY:Summer Camp Registration at The Connection
DESCRIPTION:Camps run from June 24-Aug 23\, offering weekly Full Day/Half Day sessions for boys and girls ages 3 and up. SummerFun (mornings)\, Afternoon Specialty Camps- STEM\, Cooking\, Fashion\, Fine Arts\, Robotics\, Digital Media\, Sports\, Gym\, Warrior\, Cheer\, plus Theater and Travel Camp. Extended hours. Go to www.TheConnectionOnline.org  call 908-273-4242 or visit 79 Maple St. Summit
X-ALT-DESC;FMTTYPE=text/html:<span style="font-family:times new roman\,serif"><span style="font-size:12.0pt">Camps run from June 24-Aug 23\, offering weekly Full Day/Half Day sessions for boys and girls ages 3 and up. SummerFun (mornings)\, Afternoon Specialty Camps- STEM\, Cooking\, Fashion\, Fine Arts\, Robotics\, Digital Media\, Sports\, Gym\, Warrior\, Cheer\, plus Theater and Travel Camp. Extended hours. Go to <u><span style="color:blue"><a href="http://www.theconnectiononline.org/"><span style="color:blue">www.TheConnectionOnline.org</span></a></span></u>&nbsp\; call 908-273-4242 or visit 79 Maple St. Summit</span></span>
LOCATION:79 Maple St\, Summit New Jersey
UID:e.870.15427
SEQUENCE:3
DTSTAMP:20260419T232746Z
URL:https://business.suburbanchambers.org/events/details/summer-camp-registration-at-the-connection-05-20-2019-15427
END:VEVENT

END:VCALENDAR
