BEGIN:VCALENDAR
VERSION:2.0
PRODID:-//ChamberMaster//Event Calendar 2.0//EN
METHOD:PUBLISH
X-PUBLISHED-TTL:P3D
REFRESH-INTERVAL:P3D
CALSCALE:GREGORIAN
BEGIN:VEVENT
DTSTART:20230214T170000Z
DTEND:20230214T180000Z
X-MICROSOFT-CDO-ALLDAYEVENT:FALSE
SUMMARY:Successful Cyber Selling – The Path to Sales Enablement
DESCRIPTION:n a recent study\, 71.4% of respondents reported their sales process has changes as a result of transitioning into a remote environment. 91% had difficulty gaining buyers' attention and keeping them engaged virtually and 88% reported sales teams having difficulty developing relationships with buyers in a virtual environment. Their challenges are:   Not generating enough inbound leads   A poor close rate   Losing track of follow up status in the "sea of lists"   An inconsistent sales process   A sales cycle that is way too long But the virtual selling environment isn't going anywhere\, and you can be successful if you adjust your strategy. This webinar will discuss develop sales enablement strategies that will:   Generate more leads   Turn those leads into closed business   Successfully automate follow up processes   Create consistencies in your sales process that work every time   Improve your closing rate This Event is Ideal For:   Business owners and leaders   Sales managers   Sales professionals   Marketing professionals Register to attend live or receive the recording.
X-ALT-DESC;FMTTYPE=text/html:n a recent study\, 71.4% of respondents reported their sales process has changes as a result of transitioning into a remote environment. 91% had difficulty gaining buyers&rsquo\; attention and keeping them engaged virtually and 88% reported sales teams having difficulty developing relationships with buyers in a virtual environment. Their challenges are: &bull\; Not generating enough inbound leads &bull\; A poor close rate &bull\; Losing track of follow up status in the &ldquo\;sea of lists&rdquo\; &bull\; An inconsistent sales process &bull\; A sales cycle that is way too long But the virtual selling environment isn&rsquo\;t going anywhere\, and you can be successful if you adjust your strategy. This webinar will discuss develop sales enablement strategies that will: &bull\; Generate more leads &bull\; Turn those leads into closed business &bull\; Successfully automate follow up processes &bull\; Create consistencies in your sales process that work every time &bull\; Improve your closing rate This Event is Ideal For: &bull\; Business owners and leaders &bull\; Sales managers &bull\; Sales professionals &bull\; Marketing professionals Register to attend live or receive the recording.
LOCATION:Virtual
UID:e.870.18314
SEQUENCE:3
DTSTAMP:20260424T083121Z
URL:https://business.suburbanchambers.org/events/details/successful-cyber-selling-the-path-to-sales-enablement-18314
END:VEVENT

END:VCALENDAR
