BEGIN:VCALENDAR
VERSION:2.0
PRODID:-//ChamberMaster//Event Calendar 2.0//EN
METHOD:PUBLISH
X-PUBLISHED-TTL:P3D
REFRESH-INTERVAL:P3D
CALSCALE:GREGORIAN
BEGIN:VEVENT
DTSTART:20181212T220000Z
DTEND:20181213T003000Z
X-MICROSOFT-CDO-ALLDAYEVENT:FALSE
SUMMARY:Suburban Chamber of Commerce Holiday Party 2018
DESCRIPTION:The Holiday event of the season! Join the Directors of the Suburban Chamber of Commerce and our hosts\, Gary and Rachel Kapner of CWI.DESIGN\,  as we celebrate the Season! Lots of great food\, great networking and great company!
X-ALT-DESC;FMTTYPE=text/html:<h3><span style="color:#339900\;"><span style="font-size: 18px\;">The Holiday event of the season! Join the Directors&nbsp\;of the Suburban Chamber of Commerce and our hosts\, Gary and Rachel Kapner of CWI</span><strong><span style="font-size: 18px\;">.</span></strong><span style="font-size: 18px">DESIGN\,&nbsp\;&nbsp\;as we celebrate the Season!&nbsp\;Lots of great food\, great networking and great company!</span></span></h3>\n
LOCATION:CWI.DESIGN 560 Central Ave New Providence NJ
UID:e.870.14383
SEQUENCE:3
DTSTAMP:20260420T150204Z
URL:https://business.suburbanchambers.org/events/details/suburban-chamber-of-commerce-holiday-party-2018-14383
END:VEVENT

END:VCALENDAR
