BEGIN:VCALENDAR
VERSION:2.0
PRODID:-//ChamberMaster//Event Calendar 2.0//EN
METHOD:PUBLISH
X-PUBLISHED-TTL:P3D
REFRESH-INTERVAL:P3D
CALSCALE:GREGORIAN
BEGIN:VEVENT
DTSTART:20180614T230000Z
DTEND:20180615T013000Z
X-MICROSOFT-CDO-ALLDAYEVENT:FALSE
SUMMARY:Style & Sustainability - A Fashion Show in the Garden at Reeves-Reed Arboretum
DESCRIPTION:Ethical Fashion\, a sustainable fashion runway show. Explore with us the environmental ethics in the fashion industry\, real-world experiences\, social consciousness\, and successful local and individual implementation...our goal is to build consensus for action. This Ethical Fashion Summit is part 2 of a 3-part climate change and sustainability series in partnership with Ciel Power and Green Summit NJ.  Registration is requested. And\, why not come early and meet ART in the Garden featured artist\, photographer and conservationist\, Roberto Dutesco\, and view his show\, The Wild Horses of Sable Island. Artist reception is open to the public and starts at 6:00 pm.
X-ALT-DESC;FMTTYPE=text/html:Ethical Fashion\, a sustainable fashion runway show. Explore with us the environmental ethics in the fashion industry\, real-world experiences\, social consciousness\, and successful local and individual implementation...our goal is to build consensus for action. This Ethical Fashion Summit is part 2 of a 3-part climate change and sustainability series in partnership with Ciel Power and Green Summit NJ.&nbsp\; Registration is requested.&nbsp\;And\, why not come early and meet ART in the Garden featured artist\, photographer and conservationist\, Roberto Dutesco\, and view his show\, The Wild Horses of Sable Island. Artist reception is open to the public and starts at 6:00 pm.
LOCATION:Reeves-Reed Arboretum 165 Hobart Ave. Summit\, NJ 07901
UID:e.870.13077
SEQUENCE:3
DTSTAMP:20260421T102648Z
URL:https://business.suburbanchambers.org/events/details/style-sustainability-a-fashion-show-in-the-garden-at-reeves-reed-arboretum-13077
END:VEVENT

END:VCALENDAR
