BEGIN:VCALENDAR
VERSION:2.0
PRODID:-//ChamberMaster//Event Calendar 2.0//EN
METHOD:PUBLISH
X-PUBLISHED-TTL:P3D
REFRESH-INTERVAL:P3D
CALSCALE:GREGORIAN
BEGIN:VEVENT
DTSTART:20190428T180000Z
DTEND:20190428T200000Z
X-MICROSOFT-CDO-ALLDAYEVENT:FALSE
SUMMARY:String Around My Finger
DESCRIPTION:A young couple struggles to find their footing in the aftermath of a miscarriage. While Emma is still in the hospital\, she and Kip try\, with the help or interference of his sister\, a physician's assistant and an insightful older patient\, to piece together what their relationship has been and what it still might become. A quiet comedy about big choices\, small kindnesses\, and getting a grip on letting go.
X-ALT-DESC;FMTTYPE=text/html:A young couple struggles to find their footing in the aftermath of a miscarriage. While Emma is still in the hospital\, she and Kip try\, with the help or interference of his sister\, a physician&#39\;s assistant and an insightful older patient\, to piece together what their relationship has been and what it still might become. A quiet comedy about big choices\, small kindnesses\, and getting a grip on letting go.
LOCATION:Dreamcatcher Repertory Theatre Oakes Center 120 Morris Avenue Summit\, NJ
UID:e.870.14470
SEQUENCE:3
DTSTAMP:20260420T035208Z
URL:https://business.suburbanchambers.org/events/details/string-around-my-finger-04-28-2019-14470
END:VEVENT

END:VCALENDAR
