BEGIN:VCALENDAR
VERSION:2.0
PRODID:-//ChamberMaster//Event Calendar 2.0//EN
METHOD:PUBLISH
X-PUBLISHED-TTL:P3D
REFRESH-INTERVAL:P3D
CALSCALE:GREGORIAN
BEGIN:VEVENT
DTSTART:20190206T150000Z
DTEND:20190206T160000Z
X-MICROSOFT-CDO-ALLDAYEVENT:FALSE
SUMMARY:Storytime with Dr. Singh
DESCRIPTION:Our regularly scheduled toddler storytime will have a special visitor! Dr. Singh will read a story and do some activities about visiting the dentist for the first time with the kiddos and end with tips and tricks to keep those "sugar bugs" away! Open to toddlers ages 18 mos - 3 yrs.
X-ALT-DESC;FMTTYPE=text/html:Our regularly scheduled toddler storytime will have a special visitor! Dr. Singh will read a story and do some activities about visiting the dentist for the first time with the kiddos and end with tips and tricks to keep those &ldquo\;sugar bugs&rdquo\; away! Open to toddlers ages 18 mos - 3 yrs.
LOCATION:New Providence Memorial Library
UID:e.870.15192
SEQUENCE:3
DTSTAMP:20260420T075547Z
URL:https://business.suburbanchambers.org/events/details/storytime-with-dr-singh-15192
END:VEVENT

END:VCALENDAR
