BEGIN:VCALENDAR
VERSION:2.0
PRODID:-//ChamberMaster//Event Calendar 2.0//EN
METHOD:PUBLISH
X-PUBLISHED-TTL:P3D
REFRESH-INTERVAL:P3D
CALSCALE:GREGORIAN
BEGIN:VEVENT
DTSTART:20190109T203000Z
DTEND:20190109T210000Z
X-MICROSOFT-CDO-ALLDAYEVENT:FALSE
SUMMARY:Storytime with Author Becky Gibby
DESCRIPTION:All ages. Join local author Becky Gibby and her dog KC for a special reading of her book I Walked My Dog Around the Pond. Craft to follow.
X-ALT-DESC;FMTTYPE=text/html:All ages. Join local author Becky Gibby and her dog KC for a special reading of her book I Walked My Dog Around the Pond. Craft to follow.
LOCATION:New Providence Memorial Library
UID:e.870.15199
SEQUENCE:3
DTSTAMP:20260420T144039Z
URL:https://business.suburbanchambers.org/events/details/storytime-with-author-becky-gibby-15199
END:VEVENT

END:VCALENDAR
