BEGIN:VCALENDAR
VERSION:2.0
PRODID:-//ChamberMaster//Event Calendar 2.0//EN
METHOD:PUBLISH
X-PUBLISHED-TTL:P3D
REFRESH-INTERVAL:P3D
CALSCALE:GREGORIAN
BEGIN:VEVENT
DTSTART:20180512T120000Z
DTEND:20180512T150000Z
X-MICROSOFT-CDO-ALLDAYEVENT:FALSE
SUMMARY:Step Up for The Arc 5K Run and 1-Mile Walk -
DESCRIPTION:RUN.WALK.SKIP.ROLL.STROLL.DANCE.\n\nMAY 12\n\n\n\nSTEP UP FOR THE ARC - Bring your family and friends for a healthy day of sunshine and fun.\n\n\n\nSPONSORSHIPS AVAILABLE!\n\n\n\nJoin The Arc of Union County and The Arc Kohler School on May 12 for Step Up for The Arc 5K run and 1-mile walk. T-Shirts\, Medals and Prizes to top runners and fundraisers\, and fun for all.\n\n\n\nhttps://raceroster.com/events/2018/16447/step-up-for-the-arc-5k-run-1-mile-walk-2018# \n\n\n\nAll proceeds to benefit programs at The Arc of Union County.\n\n\n\nContact edehavilland@arcunion.org for more details.\n\n\n\nSPONSOR STEP UP:\n\nChampion Runner\n\n$5\,000+\n\nLogo with link\, listed as an Arc supporter on www.arcunion.org/walk\n\nCompany mention in press releases\n\nShout Out on social media and in Arc News (sent to over 1\,000 families)\n\nLogo on T-shirt\, Race Banner & event signage\n\nOn-Site verbal acknowledgement.\n\n5 complementary entries\n\n\n\nJogger Sponsor\n\n$1\,000-$4\,999\n\nLogo listed as an Arc supporter on www.arcunion.org/walk\n\nShout Out on social media and in Arc News (sent to over 1\,000 families)\n\nName or Logo on T-shirt\, Race Banner & event signage\n\n4 complementary entries\n\n\n\nSkipper Sponsor\n\n$500-$999\n\nLogo listed as an Arc supporter on www.arcunion.org/walk\n\nName or Logo on event signage along the path\n\n2 complementary Entries\n\n\n\nWater Sponsor\n\n$250-$499\n\nName or Logo on water station sign along the path\n\n2 complementary entries\n\n\n\n-----\n\nThe Arc of Union County\, Inc. is a non-profit\, non-sectarian 501(c)3 organization dedicated to enriching the lives of individuals with intellectual and developmental disabilities and to assist and support their families.
X-ALT-DESC;FMTTYPE=text/html:<span style="color:#FF8C00"><strong><span style="font-size:15.0pt">RUN.WALK.SKIP.ROLL.STROLL.DANCE.</span><br />\n<span style="font-size:26px">MAY 12</span></strong></span><br />\n<br />\n<span style="color:#000080"><span style="font-size:15.0pt"><strong>STEP UP FOR THE ARC</strong> </span></span><span style="color:#1D2129"><span style="font-size:15.0pt">- Bring your family and friends for a healthy day of sunshine and fun.<br />\n<br />\n<strong>SPONSORSHIPS AVAILABLE!</strong></span></span><br />\n<br />\n<span style="color:#1D2129"><span style="font-size:15.0pt">Join The </span></span><span style="color:#666666"><span style="font-size:15.0pt">Arc of Union County</span></span><span style="color:#1D2129"><span style="font-size:15.0pt"> and </span></span><span style="color:#666666"><span style="font-size:15.0pt">The Arc Kohler School</span></span><span style="color:#1D2129"><span style="font-size:15.0pt"> on May 12 for Step Up for The Arc 5K run and 1-mile walk. T-Shirts\, Medals and Prizes to top runners and fundraisers\, and fun for all.</span></span><br />\n<br />\n<span style="color:#1D2129"><span style="font-size:15.0pt">https://raceroster.com/events/2018/16447/step-up-for-the-arc-5k-run-1-mile-walk-2018# </span></span><br />\n<br />\n<span style="color:#1D2129"><span style="font-size:15.0pt">All proceeds to benefit programs at The Arc of Union County.</span></span><br />\n<br />\n<span style="color:#1D2129"><span style="font-size:15.0pt">Contact edehavilland@arcunion.org for more details.</span></span><br />\n<br />\n<strong><span style="font-size:22px"><span style="color:#FFA500">SPONSOR STEP UP:</span></span><br />\n<span style="color:#DAA520">Champion Runner</span></strong><br />\n<span style="color:#DAA520"><strong>$5\,000+</strong><br />\nLogo with link\, listed as an Arc supporter on www.arcunion.org/walk<br />\nCompany mention in press releases<br />\nShout Out on social media and in Arc News (sent to over 1\,000 families)<br />\nLogo on T-shirt\, Race Banner &amp\; event signage<br />\nOn-Site verbal acknowledgement.<br />\n5 complementary entries<br />\n<br />\n<strong>Jogger Sponsor</strong><br />\n$1\,000-$4\,999<br />\nLogo listed as an Arc supporter on www.arcunion.org/walk<br />\nShout Out on social media and in Arc News (sent to over 1\,000 families)<br />\nName or Logo on T-shirt\, Race Banner &amp\; event signage<br />\n4 complementary entries<br />\n<br />\n<strong>Skipper Sponsor</strong><br />\n$500-$999<br />\nLogo listed as an Arc supporter on www.arcunion.org/walk<br />\nName or Logo on event signage along the path<br />\n2 complementary Entries<br />\n<br />\n<strong><span style="font-family:stone sans"><span style="font-size:14.0pt">Water Sponsor</span></span></strong><br />\n<strong><span style="font-family:trebuchet ms"><span style="font-size:12.0pt">$250-$499</span></span></strong><br />\n<span style="font-family:trebuchet ms">Name or Logo on water station sign along the path</span><br />\n<span style="font-family:trebuchet ms">2 complementary&nbsp\;</span><span style="font-family:trebuchet ms">entries</span></span><br />\n<br />\n<span style="font-size:15.0pt">-----</span><br />\n<em><span style="color:#1D2129"><span style="font-size:15.0pt">The Arc of Union County\, Inc. is a non-profit\, non-sectarian 501(c)3 organization dedicated to enriching the lives of individuals with intellectual and developmental disabilities and to assist and support their families.</span></span></em>
LOCATION:Oak Ridge Park\, Clark\, NJ 136 Oak Ridge Rd\, Clark\, NJ 07066
UID:e.870.11774
SEQUENCE:3
DTSTAMP:20260421T125827Z
URL:https://business.suburbanchambers.org/events/details/step-up-for-the-arc-5k-run-and-1-mile-walk-11774
END:VEVENT

END:VCALENDAR
