BEGIN:VCALENDAR
VERSION:2.0
PRODID:-//ChamberMaster//Event Calendar 2.0//EN
METHOD:PUBLISH
X-PUBLISHED-TTL:P3D
REFRESH-INTERVAL:P3D
CALSCALE:GREGORIAN
BEGIN:VEVENT
DTSTART:20190511T120000Z
DTEND:20190511T160000Z
X-MICROSOFT-CDO-ALLDAYEVENT:FALSE
SUMMARY:Step Up for The Arc - 5K Run/1-Mile Walk
DESCRIPTION:Step Up for The Arc 2019\n\n5K Run/1-Mile walk\n\nSUPPORTING The Arc of Union County...for people with intellectual and developmental disabilities. \n\nShirts guaranteed to all preregistered by April 1st. Local Food and Drink Provided! Water Stations. Clock at each mile and at the finish. Offering 500 USATF-NJ Grand Prix Points. \n\n5K Medals will be awarded to:Top male and female (with additional prizes)\; and Prizes will be awarded to: First in each age group: 14 & under\, 15-19\, 20-24\, 25-29\, 30-34\, 35-39\, 40-44\, 45-49\, 50-54\, 55-59\, 60-64\, 65-69\, 70-74\, 75-79\, 80-84\, and 85 & over.\n\nDON'T MISS THE FUN!! \n\n\n\n \n\nTo BECOME A SPONSOR\, Contact Gina at glevy@arcunion.org or at 973-315-0069\n\nPresenting Sponsor\n\n$2\,500\n\nGold Sponsor \n\n$1\,000\n\nSilver Sponsor\n\n$500\n\nBronze Sponsor\n\n$250\n\nIn-Kind Sponsor\n\nDonate Food or Supply.\n\nRun.Walk.Skip.Roll.Stroll.Dance with YOUR  TEAM\n\nInvite your friends & family\, and join the fun!\n\nHAVE QUESTIONS ABOUT THE EVENT? NEED HELP STARTING A TEAM? \n\nWANT TO DONATE BUT CAN'T ATTEND? \n\nPLEASE CONTACT:  GLEVY@ARCUNION.ORG  973-315-0069
X-ALT-DESC;FMTTYPE=text/html:<p style="text-align:center"><span style="color:#FF8C00"><span style="font-size:16px"><strong>Step Up for The Arc 2019</strong></span><br />\n<strong style="color:rgb(255\, 102\, 0)\; font-size:16px">5K Run/1-Mile walk</strong></span></p>\n\n<p style="text-align:center"><span style="font-size:16px"><strong>SUPPORTING The Arc of Union County</strong></span><strong style="font-size:16px">...for people with intellectual and developmental disabilities.&nbsp\;</strong></p>\n\n<p style="text-align:center"><span style="font-size:16px"><span style="color:rgb(0\, 0\, 0)"><strong>Shirts guaranteed to all preregistered by April 1st.&nbsp\;</strong></span></span><span style="font-size:16px"><span style="color:rgb(0\, 0\, 0)"><strong>Local Food and Drink Provided!&nbsp\;</strong></span></span><strong style="color:rgb(0\, 0\, 0)\; font-size:16px">Water Stations. Clock at each mile and at the finish. Offering 500 USATF-NJ Grand Prix Points.&nbsp\;</strong></p>\n\n<p style="text-align:center"><span style="font-size:16px"><strong>5K Medals will be awarded to:</strong><strong>Top male and female (with additional prizes)\;&nbsp\;</strong><strong>and&nbsp\;</strong><strong>Prizes will be awarded to:&nbsp\;</strong><span style="color:rgb(0\, 0\, 0)"><strong>First in each age group: 14 &amp\; under\, 15-19\, 20-24\, 25-29\, 30-34\, 35-39\, 40-44\, 45-49\, 50-54\, 55-59\, 60-64\, 65-69\, 70-74\, 75-79\, 80-84\, and 85 &amp\; over.</strong></span></span></p>\n\n<p style="text-align:center"><span style="font-size:16px"><span style="color:rgb(85\, 57\, 130)\; font-family:impact\,charcoal\,sans-serif">DON&#39\;T MISS THE FUN!!&nbsp\;</span></span><br />\n<br />\n&nbsp\;</p>\n\n<p style="text-align:center"><span style="font-family:trebuchet ms\,geneva\; font-size:large"><strong>To BECOME A SPONSOR\, Contact Gina&nbsp\;</strong></span><strong style="font-family:trebuchet ms\,geneva\; font-size:large">at&nbsp\;<span style="color:rgb(44\, 130\, 201)">glevy<u><a href="mailto:edehavilland@arcunion.org" style="box-sizing: border-box\; background-color: transparent\; color: rgb(51\, 122\, 183)\; text-decoration-line: none\; overflow-wrap: break-word\; word-break: break-word\;">@arcunion.org</a></u></span>&nbsp\;or at 973-315-0069</strong></p>\n\n<p style="text-align:center"><span style="font-family:arial\,helvetica\,sans-serif\; font-size:18px"><strong>Presenting Sponsor</strong></span></p>\n\n<p style="text-align:center"><span style="font-size:18px"><span style="font-family:arial\,helvetica\,sans-serif">$2\,500</span></span></p>\n\n<p style="text-align:center"><strong><span style="font-size:18px"><span style="font-family:arial\,helvetica\,sans-serif">Gold Sponsor&nbsp\;</span></span></strong></p>\n\n<p style="text-align:center"><span style="font-size:18px"><span style="font-family:arial\,helvetica\,sans-serif">$1\,000</span></span></p>\n\n<p style="text-align:center"><strong><span style="font-size:18px"><span style="font-family:arial\,helvetica\,sans-serif">Silver Sponsor</span></span></strong></p>\n\n<p style="text-align:center"><span style="font-size:18px"><span style="font-family:arial\,helvetica\,sans-serif">$500</span></span></p>\n\n<p style="text-align:center"><strong><span style="font-size:18px"><span style="font-family:arial\,helvetica\,sans-serif">Bronze Sponsor</span></span></strong></p>\n\n<p style="text-align:center"><span style="font-size:18px"><span style="font-family:arial\,helvetica\,sans-serif">$250</span></span></p>\n\n<p style="text-align:center"><strong><span style="font-size:18px"><span style="font-family:arial\,helvetica\,sans-serif">In-Kind Sponsor</span></span></strong></p>\n\n<p style="text-align:center"><span style="font-family:arial\,helvetica\,sans-serif\; font-size:18px">Donate Food or Supply.</span></p>\n\n<p style="text-align:center"><strong><span style="font-family:trebuchet ms\,geneva\; font-size:large">Run.Walk.Skip.Roll.Stroll.Dance with YOUR &nbsp\;TEAM</span></strong></p>\n\n<p style="text-align:center">Invite your friends &amp\; family\, and join the fun!</p>\n\n<p style="text-align: center\;"><strong><span style="font-family:arial\,helvetica\,sans-serif"><big><span style="font-size:12px"><span style="color:rgb(251\, 160\, 38)">HAVE QUESTIONS ABOUT THE EVENT?&nbsp\;</span></span><span style="color:rgb(251\, 160\, 38)\; font-size:12px">NEED HELP STARTING A TEAM?&nbsp\;</span><br />\n<span style="color:rgb(251\, 160\, 38)\; font-size:12px">WANT TO DONATE BUT CAN&#39\;T ATTEND?&nbsp\;</span></big></span></strong></p>\n\n<p style="text-align:center"><span style="font-family:arial\,helvetica\,sans-serif"><strong><span style="font-size:12px"><span style="color:rgb(251\, 160\, 38)">PLEASE CONTACT:&nbsp\;&nbsp\;</span></span></strong></span><strong style="font-family:arial\,helvetica\,sans-serif"><span style="font-size:12px"><span style="color:rgb(0\, 0\, 0)"><a href="mailto:GLEVY@ARCUNION.ORG" style="box-sizing: border-box\; background-color: transparent\; color: rgb(51\, 122\, 183)\; text-decoration-line: none\; overflow-wrap: break-word\; word-break: break-word\;">GLEVY@ARCUNION.ORG</a>&nbsp\;&nbsp\;</span></span></strong><strong style="font-family:arial\,helvetica\,sans-serif"><span style="font-size:12px"><span style="color:rgb(0\, 0\, 0)">973-315-0069</span></span></strong></p>\n
LOCATION:Oak Ridge Park Oak Ridge Road\, Clark\, NJ
UID:e.870.15405
SEQUENCE:3
DTSTAMP:20260419T191455Z
URL:https://business.suburbanchambers.org/events/details/step-up-for-the-arc-5k-run-1-mile-walk-15405
END:VEVENT

END:VCALENDAR
