BEGIN:VCALENDAR
VERSION:2.0
PRODID:-//ChamberMaster//Event Calendar 2.0//EN
METHOD:PUBLISH
X-PUBLISHED-TTL:P3D
REFRESH-INTERVAL:P3D
CALSCALE:GREGORIAN
BEGIN:VEVENT
DTSTART:20190319T170000Z
DTEND:20190319T180000Z
X-MICROSOFT-CDO-ALLDAYEVENT:FALSE
SUMMARY:Statue of Liberty: All the Facts
DESCRIPTION:Learn the fascinating history in this lecture by Kevin Woyce\, author\, photographer and lecturer specializing in regional American History. Learn how the Statue of Liberty was built and what she symbolizes\, and learn about the people involved in her creation\, including sculptor Frederic Bartholdi\, engineer Gustave Eiffel\, architect Richard Morris Hunt\, and newspaper publisher Joseph Pulitzer. A brief history of Ellis Island and Liberty State Park will be included as well as a slide show that includes original photography of the Statue of Liberty\, Ellis Island\, and New York Harbor\, historic people\, places\, and events.
X-ALT-DESC;FMTTYPE=text/html:Learn the fascinating history in this lecture by Kevin Woyce\, author\, photographer and lecturer specializing in regional American History. Learn how the Statue of Liberty was built and what she symbolizes\, and learn about the people involved in her creation\, including sculptor Frederic Bartholdi\, engineer Gustave Eiffel\, architect Richard Morris Hunt\, and newspaper publisher Joseph Pulitzer. A brief history of Ellis Island and Liberty State Park will be included as well as a slide show that includes original photography of the Statue of Liberty\, Ellis Island\, and New York Harbor\, historic people\, places\, and events.&nbsp\;
LOCATION:SAGE Eldercare 290 Broad Street Summit NJ
UID:e.870.15287
SEQUENCE:3
DTSTAMP:20260420T042311Z
URL:https://business.suburbanchambers.org/events/details/statue-of-liberty-all-the-facts-15287
END:VEVENT

END:VCALENDAR
