BEGIN:VCALENDAR
VERSION:2.0
PRODID:-//ChamberMaster//Event Calendar 2.0//EN
METHOD:PUBLISH
X-PUBLISHED-TTL:P3D
REFRESH-INTERVAL:P3D
CALSCALE:GREGORIAN
BEGIN:VEVENT
DTSTART:20180418T140000Z
DTEND:20180418T150000Z
X-MICROSOFT-CDO-ALLDAYEVENT:FALSE
SUMMARY:Starting Vegetable Seeds Indoors (Adults) - Reeves-Reed Arboretum
DESCRIPTION:Learn what you need to know to successfully start your own seedlings and test seed viability in this hands-on\, participatory workshop. Participants will go home with a tray of seeds to kick start this year's gardening season! Registration is required. Union County Master Gardeners can receive Continuing Education Credits (CEU) for this course\, as well as member pricing. To receive member pricing\, please contact Doreen Schindler.
X-ALT-DESC;FMTTYPE=text/html:Learn what you need to know to successfully start your own seedlings and test seed viability in this hands-on\, participatory workshop. Participants will go home with a tray of seeds to kick start this year&#39\;s gardening season! Registration is required. Union County Master Gardeners can receive Continuing Education Credits (CEU) for this course\, as well as member pricing. To receive member pricing\, please contact Doreen Schindler.&nbsp\;
LOCATION:Reeves-Reed Arboretum 165 Hobart Ave. Summit\, NJ 07901
UID:e.870.11771
SEQUENCE:3
DTSTAMP:20260421T161214Z
URL:https://business.suburbanchambers.org/events/details/starting-vegetable-seeds-indoors-adults-reeves-reed-arboretum-11771
END:VEVENT

END:VCALENDAR
