BEGIN:VCALENDAR
VERSION:2.0
PRODID:-//ChamberMaster//Event Calendar 2.0//EN
METHOD:PUBLISH
X-PUBLISHED-TTL:P3D
REFRESH-INTERVAL:P3D
CALSCALE:GREGORIAN
BEGIN:VEVENT
DTSTART:20190109T000000Z
DTEND:20190109T010000Z
X-MICROSOFT-CDO-ALLDAYEVENT:FALSE
SUMMARY:Start\, Manage & Grow Your Business with ReferenceUSA
DESCRIPTION:TJ Pridell of ReferenceUSA will conduct an interactive marketing lead generation demo for businesses using ReferenceUSA\, the premier online research tool for area business professionals\, job seekers\, entrepreneurs and sales and marketing reps. ReferenceUSA is free in New Jersey at https:// www.referenceusa.com.No login necessary in New Jersey if your browser has location sharing enabled.Or\, log in with your library card barcode number. RSVP to the library at npmlref@yahoo.com or (908) 665-0311.
X-ALT-DESC;FMTTYPE=text/html:TJ Pridell of ReferenceUSA will conduct an interactive marketing lead generation demo for businesses using ReferenceUSA\, the premier online research tool for area business professionals\, job seekers\, entrepreneurs and sales and marketing reps. ReferenceUSA is free in New Jersey at https:// www.referenceusa.com.No login necessary in New Jersey if your browser has location sharing enabled.Or\, log in with your library card barcode number. RSVP to the library at npmlref@yahoo.com or (908) 665-0311.
LOCATION:New Providence Memorial Library 377 Elkwood Ave. New Providence\, NJ 07974
UID:e.870.14837
SEQUENCE:3
DTSTAMP:20260420T143851Z
URL:https://business.suburbanchambers.org/events/details/start-manage-grow-your-business-with-referenceusa-14837
END:VEVENT

END:VCALENDAR
